BEGIN:VCALENDAR
VERSION:2.0
PRODID:-//St. Oliver Plunkett Church - ECPv6.15.18//NONSGML v1.0//EN
CALSCALE:GREGORIAN
METHOD:PUBLISH
X-WR-CALNAME:St. Oliver Plunkett Church
X-ORIGINAL-URL:https://cannonhillparish.org.au
X-WR-CALDESC:Events for St. Oliver Plunkett Church
REFRESH-INTERVAL;VALUE=DURATION:PT1H
X-Robots-Tag:noindex
X-PUBLISHED-TTL:PT1H
BEGIN:VTIMEZONE
TZID:Australia/Brisbane
BEGIN:STANDARD
TZOFFSETFROM:+1000
TZOFFSETTO:+1000
TZNAME:AEST
DTSTART:20240101T000000
END:STANDARD
END:VTIMEZONE
BEGIN:VEVENT
DTSTART;TZID=Australia/Brisbane:20250727T093000
DTEND;TZID=Australia/Brisbane:20250727T111500
DTSTAMP:20260419T232559
CREATED:20250529T114925Z
LAST-MODIFIED:20250529T115653Z
UID:10002048-1753608600-1753614900@cannonhillparish.org.au
SUMMARY:Baptisms
DESCRIPTION:
URL:https://cannonhillparish.org.au/event/baptisms-6/2025-07-27/
LOCATION:St Oliver Plunkett Church\, 21 Beauvardia Street\, Cannon Hill\, Q\, 4170\, Australia
CATEGORIES:Sacramental
END:VEVENT
BEGIN:VEVENT
DTSTART;TZID=Australia/Brisbane:20250724T103000
DTEND;TZID=Australia/Brisbane:20250724T133000
DTSTAMP:20260419T232559
CREATED:20250502T020638Z
LAST-MODIFIED:20250529T105629Z
UID:10001450-1753353000-1753363800@cannonhillparish.org.au
SUMMARY:Unlocking the Mysteries of the Bible
DESCRIPTION:
URL:https://cannonhillparish.org.au/event/unlocking-the-mysteries-of-the-bible/2025-07-24/
LOCATION:St Oliver Plunkett Church\, 21 Beauvardia Street\, Cannon Hill\, Q\, 4170\, Australia
END:VEVENT
BEGIN:VEVENT
DTSTART;TZID=Australia/Brisbane:20250723T093000
DTEND;TZID=Australia/Brisbane:20250723T103000
DTSTAMP:20260419T232559
CREATED:20241221T033213Z
LAST-MODIFIED:20250529T112904Z
UID:10001054-1753263000-1753266600@cannonhillparish.org.au
SUMMARY:Parish Morning Tea
DESCRIPTION:
URL:https://cannonhillparish.org.au/event/wednesday-morning-tea/2025-07-23/
LOCATION:St Oliver Plunkett Church\, 21 Beauvardia Street\, Cannon Hill\, Q\, 4170\, Australia
CATEGORIES:Meetings
END:VEVENT
BEGIN:VEVENT
DTSTART;TZID=Australia/Brisbane:20250717T103000
DTEND;TZID=Australia/Brisbane:20250717T133000
DTSTAMP:20260419T232559
CREATED:20250502T020638Z
LAST-MODIFIED:20250529T105629Z
UID:10001449-1752748200-1752759000@cannonhillparish.org.au
SUMMARY:Unlocking the Mysteries of the Bible
DESCRIPTION:
URL:https://cannonhillparish.org.au/event/unlocking-the-mysteries-of-the-bible/2025-07-17/
LOCATION:St Oliver Plunkett Church\, 21 Beauvardia Street\, Cannon Hill\, Q\, 4170\, Australia
END:VEVENT
BEGIN:VEVENT
DTSTART;TZID=Australia/Brisbane:20250716T093000
DTEND;TZID=Australia/Brisbane:20250716T103000
DTSTAMP:20260419T232559
CREATED:20241221T033213Z
LAST-MODIFIED:20250529T112904Z
UID:10001053-1752658200-1752661800@cannonhillparish.org.au
SUMMARY:Parish Morning Tea
DESCRIPTION:
URL:https://cannonhillparish.org.au/event/wednesday-morning-tea/2025-07-16/
LOCATION:St Oliver Plunkett Church\, 21 Beauvardia Street\, Cannon Hill\, Q\, 4170\, Australia
CATEGORIES:Meetings
END:VEVENT
BEGIN:VEVENT
DTSTART;TZID=Australia/Brisbane:20250713T093000
DTEND;TZID=Australia/Brisbane:20250713T111500
DTSTAMP:20260419T232559
CREATED:20250529T114831Z
LAST-MODIFIED:20250529T115734Z
UID:10001988-1752399000-1752405300@cannonhillparish.org.au
SUMMARY:Baptisms
DESCRIPTION:
URL:https://cannonhillparish.org.au/event/baptisms-5/2025-07-13/
LOCATION:St Oliver Plunkett Church\, 21 Beauvardia Street\, Cannon Hill\, Q\, 4170\, Australia
CATEGORIES:Sacramental
END:VEVENT
BEGIN:VEVENT
DTSTART;TZID=Australia/Brisbane:20250710T103000
DTEND;TZID=Australia/Brisbane:20250710T133000
DTSTAMP:20260419T232559
CREATED:20250502T020638Z
LAST-MODIFIED:20250529T105629Z
UID:10001448-1752143400-1752154200@cannonhillparish.org.au
SUMMARY:Unlocking the Mysteries of the Bible
DESCRIPTION:
URL:https://cannonhillparish.org.au/event/unlocking-the-mysteries-of-the-bible/2025-07-10/
LOCATION:St Oliver Plunkett Church\, 21 Beauvardia Street\, Cannon Hill\, Q\, 4170\, Australia
END:VEVENT
BEGIN:VEVENT
DTSTART;TZID=Australia/Brisbane:20250709T093000
DTEND;TZID=Australia/Brisbane:20250709T103000
DTSTAMP:20260419T232559
CREATED:20241221T033213Z
LAST-MODIFIED:20250529T112904Z
UID:10001052-1752053400-1752057000@cannonhillparish.org.au
SUMMARY:Parish Morning Tea
DESCRIPTION:
URL:https://cannonhillparish.org.au/event/wednesday-morning-tea/2025-07-09/
LOCATION:St Oliver Plunkett Church\, 21 Beauvardia Street\, Cannon Hill\, Q\, 4170\, Australia
CATEGORIES:Meetings
END:VEVENT
BEGIN:VEVENT
DTSTART;VALUE=DATE:20250706
DTEND;VALUE=DATE:20250707
DTSTAMP:20260419T232559
CREATED:20241221T030816Z
LAST-MODIFIED:20241222T043117Z
UID:10000492-1751760000-1751846399@cannonhillparish.org.au
SUMMARY:CLOW - Little Lanterns Liturgy
DESCRIPTION:1st Sunday of every month (except January). \nChildren’s Liturgy of the Word (CLOW) for primary school aged children. \nHeld at St Oliver Plunkett Church during mass. \nFollowed by morning tea for all parishioners and visitors.
URL:https://cannonhillparish.org.au/event/clow-little-lanterns-liturgy-2/2025-07-06/
LOCATION:St Oliver Plunkett Church\, 21 Beauvardia Street\, Cannon Hill\, Q\, 4170\, Australia
CATEGORIES:Meetings
END:VEVENT
BEGIN:VEVENT
DTSTART;TZID=Australia/Brisbane:20250704T093000
DTEND;TZID=Australia/Brisbane:20250704T100000
DTSTAMP:20260419T232559
CREATED:20241220T112128Z
LAST-MODIFIED:20250303T030753Z
UID:10000260-1751621400-1751623200@cannonhillparish.org.au
SUMMARY:Adoration of the Blessed Sacrament
DESCRIPTION:First Friday of the month following 9.00am Mass at St Oliver Plunkett Church.
URL:https://cannonhillparish.org.au/event/adoration-of-the-blessed-sacrament-2/2025-07-04/
LOCATION:St Oliver Plunkett Church\, 21 Beauvardia Street\, Cannon Hill\, Q\, 4170\, Australia
END:VEVENT
BEGIN:VEVENT
DTSTART;TZID=Australia/Brisbane:20250703T180000
DTEND;TZID=Australia/Brisbane:20250703T200000
DTSTAMP:20260419T232559
CREATED:20241221T030122Z
LAST-MODIFIED:20260323T000153Z
UID:10000365-1751565600-1751572800@cannonhillparish.org.au
SUMMARY:Connect Dinner
DESCRIPTION:All Alpha attendees\, family and friends\, are warmly invited to Connect Dinners held every fortnight in the Parish Hall.  \nSimply bring a dish to share and enjoy a short presentation followed by an engaging discussion. All welcome!!!
URL:https://cannonhillparish.org.au/event/alpha-connect-dinner/2025-07-03/
LOCATION:St Oliver Plunkett Church\, 21 Beauvardia Street\, Cannon Hill\, Q\, 4170\, Australia
CATEGORIES:Meetings
END:VEVENT
BEGIN:VEVENT
DTSTART;TZID=Australia/Brisbane:20250702T093000
DTEND;TZID=Australia/Brisbane:20250702T103000
DTSTAMP:20260419T232600
CREATED:20241221T033213Z
LAST-MODIFIED:20250529T112904Z
UID:10001051-1751448600-1751452200@cannonhillparish.org.au
SUMMARY:Parish Morning Tea
DESCRIPTION:
URL:https://cannonhillparish.org.au/event/wednesday-morning-tea/2025-07-02/
LOCATION:St Oliver Plunkett Church\, 21 Beauvardia Street\, Cannon Hill\, Q\, 4170\, Australia
CATEGORIES:Meetings
END:VEVENT
BEGIN:VEVENT
DTSTART;TZID=Australia/Brisbane:20250626T103000
DTEND;TZID=Australia/Brisbane:20250626T133000
DTSTAMP:20260419T232600
CREATED:20250502T020638Z
LAST-MODIFIED:20250529T105629Z
UID:10001447-1750933800-1750944600@cannonhillparish.org.au
SUMMARY:Unlocking the Mysteries of the Bible
DESCRIPTION:
URL:https://cannonhillparish.org.au/event/unlocking-the-mysteries-of-the-bible/2025-06-26/
LOCATION:St Oliver Plunkett Church\, 21 Beauvardia Street\, Cannon Hill\, Q\, 4170\, Australia
END:VEVENT
BEGIN:VEVENT
DTSTART;TZID=Australia/Brisbane:20250625T093000
DTEND;TZID=Australia/Brisbane:20250625T103000
DTSTAMP:20260419T232600
CREATED:20241221T033213Z
LAST-MODIFIED:20250529T112904Z
UID:10001050-1750843800-1750847400@cannonhillparish.org.au
SUMMARY:Parish Morning Tea
DESCRIPTION:
URL:https://cannonhillparish.org.au/event/wednesday-morning-tea/2025-06-25/
LOCATION:St Oliver Plunkett Church\, 21 Beauvardia Street\, Cannon Hill\, Q\, 4170\, Australia
CATEGORIES:Meetings
END:VEVENT
BEGIN:VEVENT
DTSTART;TZID=Australia/Brisbane:20250622T093000
DTEND;TZID=Australia/Brisbane:20250622T111500
DTSTAMP:20260419T232600
CREATED:20250529T114925Z
LAST-MODIFIED:20250529T115653Z
UID:10002047-1750584600-1750590900@cannonhillparish.org.au
SUMMARY:Baptisms
DESCRIPTION:
URL:https://cannonhillparish.org.au/event/baptisms-6/2025-06-22/
LOCATION:St Oliver Plunkett Church\, 21 Beauvardia Street\, Cannon Hill\, Q\, 4170\, Australia
CATEGORIES:Sacramental
END:VEVENT
BEGIN:VEVENT
DTSTART;TZID=Australia/Brisbane:20250620T173000
DTEND;TZID=Australia/Brisbane:20250620T183000
DTSTAMP:20260419T232600
CREATED:20250404T040643Z
LAST-MODIFIED:20250529T113958Z
UID:10001396-1750440600-1750444200@cannonhillparish.org.au
SUMMARY:Celebration of the Sacrament of Confirmation
DESCRIPTION:
URL:https://cannonhillparish.org.au/event/celebration-of-the-sacrament-of-confirmation-2/
LOCATION:St Oliver Plunkett Church\, 21 Beauvardia Street\, Cannon Hill\, Q\, 4170\, Australia
CATEGORIES:Sacramental
END:VEVENT
BEGIN:VEVENT
DTSTART;TZID=Australia/Brisbane:20250619T180000
DTEND;TZID=Australia/Brisbane:20250619T200000
DTSTAMP:20260419T232600
CREATED:20241221T030122Z
LAST-MODIFIED:20260323T000153Z
UID:10000364-1750356000-1750363200@cannonhillparish.org.au
SUMMARY:Connect Dinner
DESCRIPTION:All Alpha attendees\, family and friends\, are warmly invited to Connect Dinners held every fortnight in the Parish Hall.  \nSimply bring a dish to share and enjoy a short presentation followed by an engaging discussion. All welcome!!!
URL:https://cannonhillparish.org.au/event/alpha-connect-dinner/2025-06-19/
LOCATION:St Oliver Plunkett Church\, 21 Beauvardia Street\, Cannon Hill\, Q\, 4170\, Australia
CATEGORIES:Meetings
END:VEVENT
BEGIN:VEVENT
DTSTART;TZID=Australia/Brisbane:20250619T103000
DTEND;TZID=Australia/Brisbane:20250619T133000
DTSTAMP:20260419T232600
CREATED:20250502T020638Z
LAST-MODIFIED:20250529T105629Z
UID:10001446-1750329000-1750339800@cannonhillparish.org.au
SUMMARY:Unlocking the Mysteries of the Bible
DESCRIPTION:
URL:https://cannonhillparish.org.au/event/unlocking-the-mysteries-of-the-bible/2025-06-19/
LOCATION:St Oliver Plunkett Church\, 21 Beauvardia Street\, Cannon Hill\, Q\, 4170\, Australia
END:VEVENT
BEGIN:VEVENT
DTSTART;TZID=Australia/Brisbane:20250618T093000
DTEND;TZID=Australia/Brisbane:20250618T103000
DTSTAMP:20260419T232600
CREATED:20241221T033213Z
LAST-MODIFIED:20250529T112904Z
UID:10001049-1750239000-1750242600@cannonhillparish.org.au
SUMMARY:Parish Morning Tea
DESCRIPTION:
URL:https://cannonhillparish.org.au/event/wednesday-morning-tea/2025-06-18/
LOCATION:St Oliver Plunkett Church\, 21 Beauvardia Street\, Cannon Hill\, Q\, 4170\, Australia
CATEGORIES:Meetings
END:VEVENT
BEGIN:VEVENT
DTSTART;TZID=Australia/Brisbane:20250612T103000
DTEND;TZID=Australia/Brisbane:20250612T133000
DTSTAMP:20260419T232600
CREATED:20250502T020638Z
LAST-MODIFIED:20250529T105629Z
UID:10001445-1749724200-1749735000@cannonhillparish.org.au
SUMMARY:Unlocking the Mysteries of the Bible
DESCRIPTION:
URL:https://cannonhillparish.org.au/event/unlocking-the-mysteries-of-the-bible/2025-06-12/
LOCATION:St Oliver Plunkett Church\, 21 Beauvardia Street\, Cannon Hill\, Q\, 4170\, Australia
END:VEVENT
BEGIN:VEVENT
DTSTART;TZID=Australia/Brisbane:20250611T093000
DTEND;TZID=Australia/Brisbane:20250611T103000
DTSTAMP:20260419T232600
CREATED:20241221T033213Z
LAST-MODIFIED:20250529T112904Z
UID:10001048-1749634200-1749637800@cannonhillparish.org.au
SUMMARY:Parish Morning Tea
DESCRIPTION:
URL:https://cannonhillparish.org.au/event/wednesday-morning-tea/2025-06-11/
LOCATION:St Oliver Plunkett Church\, 21 Beauvardia Street\, Cannon Hill\, Q\, 4170\, Australia
CATEGORIES:Meetings
END:VEVENT
BEGIN:VEVENT
DTSTART;TZID=Australia/Brisbane:20250608T093000
DTEND;TZID=Australia/Brisbane:20250608T111500
DTSTAMP:20260419T232600
CREATED:20250529T114831Z
LAST-MODIFIED:20250529T115734Z
UID:10001987-1749375000-1749381300@cannonhillparish.org.au
SUMMARY:Baptisms
DESCRIPTION:
URL:https://cannonhillparish.org.au/event/baptisms-5/2025-06-08/
LOCATION:St Oliver Plunkett Church\, 21 Beauvardia Street\, Cannon Hill\, Q\, 4170\, Australia
CATEGORIES:Sacramental
END:VEVENT
BEGIN:VEVENT
DTSTART;TZID=Australia/Brisbane:20250606T093000
DTEND;TZID=Australia/Brisbane:20250606T100000
DTSTAMP:20260419T232600
CREATED:20241220T112128Z
LAST-MODIFIED:20250303T030753Z
UID:10000259-1749202200-1749204000@cannonhillparish.org.au
SUMMARY:Adoration of the Blessed Sacrament
DESCRIPTION:First Friday of the month following 9.00am Mass at St Oliver Plunkett Church.
URL:https://cannonhillparish.org.au/event/adoration-of-the-blessed-sacrament-2/2025-06-06/
LOCATION:St Oliver Plunkett Church\, 21 Beauvardia Street\, Cannon Hill\, Q\, 4170\, Australia
END:VEVENT
BEGIN:VEVENT
DTSTART;TZID=Australia/Brisbane:20250605T180000
DTEND;TZID=Australia/Brisbane:20250605T200000
DTSTAMP:20260419T232600
CREATED:20241221T030122Z
LAST-MODIFIED:20260323T000153Z
UID:10000363-1749146400-1749153600@cannonhillparish.org.au
SUMMARY:Connect Dinner
DESCRIPTION:All Alpha attendees\, family and friends\, are warmly invited to Connect Dinners held every fortnight in the Parish Hall.  \nSimply bring a dish to share and enjoy a short presentation followed by an engaging discussion. All welcome!!!
URL:https://cannonhillparish.org.au/event/alpha-connect-dinner/2025-06-05/
LOCATION:St Oliver Plunkett Church\, 21 Beauvardia Street\, Cannon Hill\, Q\, 4170\, Australia
CATEGORIES:Meetings
END:VEVENT
BEGIN:VEVENT
DTSTART;TZID=Australia/Brisbane:20250605T103000
DTEND;TZID=Australia/Brisbane:20250605T133000
DTSTAMP:20260419T232600
CREATED:20250502T020638Z
LAST-MODIFIED:20250529T105629Z
UID:10001444-1749119400-1749130200@cannonhillparish.org.au
SUMMARY:Unlocking the Mysteries of the Bible
DESCRIPTION:
URL:https://cannonhillparish.org.au/event/unlocking-the-mysteries-of-the-bible/2025-06-05/
LOCATION:St Oliver Plunkett Church\, 21 Beauvardia Street\, Cannon Hill\, Q\, 4170\, Australia
END:VEVENT
BEGIN:VEVENT
DTSTART;TZID=Australia/Brisbane:20250604T093000
DTEND;TZID=Australia/Brisbane:20250604T103000
DTSTAMP:20260419T232600
CREATED:20241221T033213Z
LAST-MODIFIED:20250529T112904Z
UID:10001047-1749029400-1749033000@cannonhillparish.org.au
SUMMARY:Parish Morning Tea
DESCRIPTION:
URL:https://cannonhillparish.org.au/event/wednesday-morning-tea/2025-06-04/
LOCATION:St Oliver Plunkett Church\, 21 Beauvardia Street\, Cannon Hill\, Q\, 4170\, Australia
CATEGORIES:Meetings
END:VEVENT
BEGIN:VEVENT
DTSTART;VALUE=DATE:20250601
DTEND;VALUE=DATE:20250602
DTSTAMP:20260419T232600
CREATED:20241221T030816Z
LAST-MODIFIED:20241222T043117Z
UID:10001207-1748736000-1748822399@cannonhillparish.org.au
SUMMARY:CLOW - Little Lanterns Liturgy
DESCRIPTION:1st Sunday of every month (except January). \nChildren’s Liturgy of the Word (CLOW) for primary school aged children. \nHeld at St Oliver Plunkett Church during mass. \nFollowed by morning tea for all parishioners and visitors.
URL:https://cannonhillparish.org.au/event/clow-little-lanterns-liturgy-2/2025-06-01/
LOCATION:St Oliver Plunkett Church\, 21 Beauvardia Street\, Cannon Hill\, Q\, 4170\, Australia
CATEGORIES:Meetings
END:VEVENT
BEGIN:VEVENT
DTSTART;TZID=Australia/Brisbane:20250528T093000
DTEND;TZID=Australia/Brisbane:20250528T103000
DTSTAMP:20260419T232600
CREATED:20241221T033213Z
LAST-MODIFIED:20250529T112904Z
UID:10001046-1748424600-1748428200@cannonhillparish.org.au
SUMMARY:Parish Morning Tea
DESCRIPTION:
URL:https://cannonhillparish.org.au/event/wednesday-morning-tea/2025-05-28/
LOCATION:St Oliver Plunkett Church\, 21 Beauvardia Street\, Cannon Hill\, Q\, 4170\, Australia
CATEGORIES:Meetings
END:VEVENT
BEGIN:VEVENT
DTSTART;TZID=Australia/Brisbane:20250522T180000
DTEND;TZID=Australia/Brisbane:20250522T200000
DTSTAMP:20260419T232600
CREATED:20241221T030122Z
LAST-MODIFIED:20260323T000153Z
UID:10000362-1747936800-1747944000@cannonhillparish.org.au
SUMMARY:Connect Dinner
DESCRIPTION:All Alpha attendees\, family and friends\, are warmly invited to Connect Dinners held every fortnight in the Parish Hall.  \nSimply bring a dish to share and enjoy a short presentation followed by an engaging discussion. All welcome!!!
URL:https://cannonhillparish.org.au/event/alpha-connect-dinner/2025-05-22/
LOCATION:St Oliver Plunkett Church\, 21 Beauvardia Street\, Cannon Hill\, Q\, 4170\, Australia
CATEGORIES:Meetings
END:VEVENT
BEGIN:VEVENT
DTSTART;TZID=Australia/Brisbane:20250521T093000
DTEND;TZID=Australia/Brisbane:20250521T103000
DTSTAMP:20260419T232600
CREATED:20241221T033213Z
LAST-MODIFIED:20250529T112904Z
UID:10001045-1747819800-1747823400@cannonhillparish.org.au
SUMMARY:Parish Morning Tea
DESCRIPTION:
URL:https://cannonhillparish.org.au/event/wednesday-morning-tea/2025-05-21/
LOCATION:St Oliver Plunkett Church\, 21 Beauvardia Street\, Cannon Hill\, Q\, 4170\, Australia
CATEGORIES:Meetings
END:VEVENT
END:VCALENDAR