BEGIN:VCALENDAR
VERSION:2.0
PRODID:-//St. Oliver Plunkett Church - ECPv6.15.18//NONSGML v1.0//EN
CALSCALE:GREGORIAN
METHOD:PUBLISH
X-ORIGINAL-URL:https://cannonhillparish.org.au
X-WR-CALDESC:Events for St. Oliver Plunkett Church
REFRESH-INTERVAL;VALUE=DURATION:PT1H
X-Robots-Tag:noindex
X-PUBLISHED-TTL:PT1H
BEGIN:VTIMEZONE
TZID:Australia/Brisbane
BEGIN:STANDARD
TZOFFSETFROM:+1000
TZOFFSETTO:+1000
TZNAME:AEST
DTSTART:20220101T000000
END:STANDARD
END:VTIMEZONE
BEGIN:VTIMEZONE
TZID:Australia/Sydney
BEGIN:STANDARD
TZOFFSETFROM:+1100
TZOFFSETTO:+1000
TZNAME:AEST
DTSTART:20230401T160000
END:STANDARD
BEGIN:DAYLIGHT
TZOFFSETFROM:+1000
TZOFFSETTO:+1100
TZNAME:AEDT
DTSTART:20230930T160000
END:DAYLIGHT
BEGIN:STANDARD
TZOFFSETFROM:+1100
TZOFFSETTO:+1000
TZNAME:AEST
DTSTART:20240406T160000
END:STANDARD
BEGIN:DAYLIGHT
TZOFFSETFROM:+1000
TZOFFSETTO:+1100
TZNAME:AEDT
DTSTART:20241005T160000
END:DAYLIGHT
BEGIN:STANDARD
TZOFFSETFROM:+1100
TZOFFSETTO:+1000
TZNAME:AEST
DTSTART:20250405T160000
END:STANDARD
BEGIN:DAYLIGHT
TZOFFSETFROM:+1000
TZOFFSETTO:+1100
TZNAME:AEDT
DTSTART:20251004T160000
END:DAYLIGHT
END:VTIMEZONE
BEGIN:VEVENT
DTSTART;TZID=Australia/Brisbane:20240515T180000
DTEND;TZID=Australia/Brisbane:20240515T190000
DTSTAMP:20260420T135346
CREATED:20240206T024133Z
LAST-MODIFIED:20240206T024133Z
UID:10000191-1715796000-1715799600@cannonhillparish.org.au
SUMMARY:Rehearsal for the Sacrament of Confirmation
DESCRIPTION:
URL:https://cannonhillparish.org.au/event/rehearsal-for-the-sacrament-of-confirmation/
LOCATION:21 Beauvardia Street\, Cannon Hill\, Q\, 4170\, Australia
CATEGORIES:Sacramental
END:VEVENT
BEGIN:VEVENT
DTSTART;TZID=Australia/Brisbane:20240417T190000
DTEND;TZID=Australia/Brisbane:20240417T200000
DTSTAMP:20260420T135346
CREATED:20240206T022939Z
LAST-MODIFIED:20240206T022939Z
UID:10000184-1713380400-1713384000@cannonhillparish.org.au
SUMMARY:Parents' Preparation Session for the Sacrament of Confirmation
DESCRIPTION:
URL:https://cannonhillparish.org.au/event/parents-preparation-session-for-the-sacrament-of-confirmation/
LOCATION:St Oliver Plunkett Church\, 21 Beauvardia Street\, Cannon Hill\, Q\, 4170\, Australia
CATEGORIES:Sacramental
END:VEVENT
BEGIN:VEVENT
DTSTART;VALUE=DATE:20240331
DTEND;VALUE=DATE:20240401
DTSTAMP:20260420T135346
CREATED:20240304T015102Z
LAST-MODIFIED:20240304T015102Z
UID:10000223-1711843200-1711929599@cannonhillparish.org.au
SUMMARY:Easter Sunday
DESCRIPTION:
URL:https://cannonhillparish.org.au/event/good-friday/
LOCATION:St Oliver Plunkett Church\, 21 Beauvardia Street\, Cannon Hill\, Q\, 4170\, Australia
CATEGORIES:Celebrations
END:VEVENT
BEGIN:VEVENT
DTSTART;TZID=Australia/Sydney:20240330T180000
DTEND;TZID=Australia/Sydney:20240330T200000
DTSTAMP:20260420T135346
CREATED:20240304T015735Z
LAST-MODIFIED:20240304T015735Z
UID:10000232-1711821600-1711828800@cannonhillparish.org.au
SUMMARY:Easter Vigil Mass
DESCRIPTION:
URL:https://cannonhillparish.org.au/event/easter-vigil-mass/
LOCATION:St Oliver Plunkett Church\, 21 Beauvardia Street\, Cannon Hill\, Q\, 4170\, Australia
CATEGORIES:Celebrations
END:VEVENT
BEGIN:VEVENT
DTSTART;VALUE=DATE:20240330
DTEND;VALUE=DATE:20240331
DTSTAMP:20260420T135346
CREATED:20240304T015229Z
LAST-MODIFIED:20240304T015229Z
UID:10000224-1711756800-1711843199@cannonhillparish.org.au
SUMMARY:Easter Saturday
DESCRIPTION:
URL:https://cannonhillparish.org.au/event/easter-saturday-2/
LOCATION:St Oliver Plunkett Church\, 21 Beauvardia Street\, Cannon Hill\, Q\, 4170\, Australia
CATEGORIES:Celebrations
END:VEVENT
BEGIN:VEVENT
DTSTART;TZID=Australia/Brisbane:20240329T030000
DTEND;TZID=Australia/Brisbane:20240329T163000
DTSTAMP:20260420T135346
CREATED:20240304T015605Z
LAST-MODIFIED:20240304T015605Z
UID:10000231-1711681200-1711729800@cannonhillparish.org.au
SUMMARY:Commemoration of the Passion
DESCRIPTION:
URL:https://cannonhillparish.org.au/event/commemoration-of-the-passion/
LOCATION:St Oliver Plunkett Church\, 21 Beauvardia Street\, Cannon Hill\, Q\, 4170\, Australia
CATEGORIES:Celebrations
END:VEVENT
BEGIN:VEVENT
DTSTART;VALUE=DATE:20240329
DTEND;VALUE=DATE:20240330
DTSTAMP:20260420T135346
CREATED:20240304T015309Z
LAST-MODIFIED:20240304T015309Z
UID:10000228-1711670400-1711756799@cannonhillparish.org.au
SUMMARY:Good Friday
DESCRIPTION:
URL:https://cannonhillparish.org.au/event/good-friday-2/
LOCATION:St Oliver Plunkett Church\, 21 Beauvardia Street\, Cannon Hill\, Q\, 4170\, Australia
CATEGORIES:Celebrations
END:VEVENT
BEGIN:VEVENT
DTSTART;TZID=Australia/Brisbane:20240328T190000
DTEND;TZID=Australia/Brisbane:20240328T210000
DTSTAMP:20260420T135346
CREATED:20240304T014918Z
LAST-MODIFIED:20240304T014918Z
UID:10000221-1711652400-1711659600@cannonhillparish.org.au
SUMMARY:Commemoration of the Last Supper
DESCRIPTION:
URL:https://cannonhillparish.org.au/event/commemoration-of-the-last-supper/
LOCATION:St Oliver Plunkett Church\, 21 Beauvardia Street\, Cannon Hill\, Q\, 4170\, Australia
CATEGORIES:Celebrations
END:VEVENT
BEGIN:VEVENT
DTSTART;VALUE=DATE:20240328
DTEND;VALUE=DATE:20240329
DTSTAMP:20260420T135346
CREATED:20240304T015035Z
LAST-MODIFIED:20240304T015035Z
UID:10000222-1711584000-1711670399@cannonhillparish.org.au
SUMMARY:Holy Thursday
DESCRIPTION:
URL:https://cannonhillparish.org.au/event/holy-thursday/
LOCATION:St Oliver Plunkett Church\, 21 Beauvardia Street\, Cannon Hill\, Q\, 4170\, Australia
CATEGORIES:Celebrations
END:VEVENT
BEGIN:VEVENT
DTSTART;TZID=Australia/Brisbane:20240322T180000
DTEND;TZID=Australia/Brisbane:20240322T190000
DTSTAMP:20260420T135346
CREATED:20240304T012948Z
LAST-MODIFIED:20240304T012948Z
UID:10000207-1711130400-1711134000@cannonhillparish.org.au
SUMMARY:Stations of the Cross + Mass
DESCRIPTION:
URL:https://cannonhillparish.org.au/event/stations-of-the-cross-mass-6/
LOCATION:St Oliver Plunkett Church\, 21 Beauvardia Street\, Cannon Hill\, Q\, 4170\, Australia
CATEGORIES:Celebrations
END:VEVENT
BEGIN:VEVENT
DTSTART;TZID=Australia/Brisbane:20240319T183000
DTEND;TZID=Australia/Brisbane:20240319T193000
DTSTAMP:20260420T135346
CREATED:20240304T014450Z
LAST-MODIFIED:20240304T014450Z
UID:10000220-1710873000-1710876600@cannonhillparish.org.au
SUMMARY:Second Rite of Reconciliation
DESCRIPTION:
URL:https://cannonhillparish.org.au/event/second-rite-of-reconciliation/
LOCATION:St Oliver Plunkett Church\, 21 Beauvardia Street\, Cannon Hill\, Q\, 4170\, Australia
CATEGORIES:Celebrations
END:VEVENT
BEGIN:VEVENT
DTSTART;TZID=Australia/Brisbane:20240317T093000
DTEND;TZID=Australia/Brisbane:20240317T103000
DTSTAMP:20260420T135346
CREATED:20240206T024845Z
LAST-MODIFIED:20240206T024845Z
UID:10000196-1710667800-1710671400@cannonhillparish.org.au
SUMMARY:Baptisms
DESCRIPTION:
URL:https://cannonhillparish.org.au/event/baptisms-4/
LOCATION:St Oliver Plunkett Church\, 21 Beauvardia Street\, Cannon Hill\, Q\, 4170\, Australia
END:VEVENT
BEGIN:VEVENT
DTSTART;TZID=Australia/Brisbane:20240315T180000
DTEND;TZID=Australia/Brisbane:20240315T190000
DTSTAMP:20260420T135346
CREATED:20240304T012941Z
LAST-MODIFIED:20240304T012941Z
UID:10000208-1710525600-1710529200@cannonhillparish.org.au
SUMMARY:Stations of the Cross + Mass
DESCRIPTION:
URL:https://cannonhillparish.org.au/event/stations-of-the-cross-mass-5/
LOCATION:St Oliver Plunkett Church\, 21 Beauvardia Street\, Cannon Hill\, Q\, 4170\, Australia
CATEGORIES:Celebrations
END:VEVENT
BEGIN:VEVENT
DTSTART;TZID=Australia/Brisbane:20240313T090000
DTEND;TZID=Australia/Brisbane:20240313T093000
DTSTAMP:20260420T135346
CREATED:20240304T014236Z
LAST-MODIFIED:20240304T014236Z
UID:10000218-1710320400-1710322200@cannonhillparish.org.au
SUMMARY:Healing & Anointing Mass
DESCRIPTION:
URL:https://cannonhillparish.org.au/event/healing-anointing-mass/
LOCATION:St Oliver Plunkett Church\, 21 Beauvardia Street\, Cannon Hill\, Q\, 4170\, Australia
CATEGORIES:Celebrations
END:VEVENT
BEGIN:VEVENT
DTSTART;TZID=Australia/Brisbane:20240310T093000
DTEND;TZID=Australia/Brisbane:20240310T103000
DTSTAMP:20260420T135346
CREATED:20240206T024820Z
LAST-MODIFIED:20240206T024820Z
UID:10000195-1710063000-1710066600@cannonhillparish.org.au
SUMMARY:Baptisms
DESCRIPTION:
URL:https://cannonhillparish.org.au/event/baptisms-3/
LOCATION:St Oliver Plunkett Church\, 21 Beauvardia Street\, Cannon Hill\, Q\, 4170\, Australia
END:VEVENT
BEGIN:VEVENT
DTSTART;TZID=Australia/Brisbane:20240308T180000
DTEND;TZID=Australia/Brisbane:20240308T190000
DTSTAMP:20260420T135346
CREATED:20240304T012934Z
LAST-MODIFIED:20240304T012934Z
UID:10000209-1709920800-1709924400@cannonhillparish.org.au
SUMMARY:Stations of the Cross + Mass
DESCRIPTION:
URL:https://cannonhillparish.org.au/event/stations-of-the-cross-mass-4/
LOCATION:St Oliver Plunkett Church\, 21 Beauvardia Street\, Cannon Hill\, Q\, 4170\, Australia
CATEGORIES:Celebrations
END:VEVENT
BEGIN:VEVENT
DTSTART;VALUE=DATE:20240306
DTEND;VALUE=DATE:20240307
DTSTAMP:20260420T135346
CREATED:20240304T013957Z
LAST-MODIFIED:20240304T013957Z
UID:10000217-1709683200-1709769599@cannonhillparish.org.au
SUMMARY:NO 9am MASS
DESCRIPTION:
URL:https://cannonhillparish.org.au/event/no-9am-mass-2/
LOCATION:St Oliver Plunkett Church\, 21 Beauvardia Street\, Cannon Hill\, Q\, 4170\, Australia
CATEGORIES:Celebrations
END:VEVENT
BEGIN:VEVENT
DTSTART;VALUE=DATE:20240305
DTEND;VALUE=DATE:20240306
DTSTAMP:20260420T135346
CREATED:20240304T013937Z
LAST-MODIFIED:20240304T013937Z
UID:10000216-1709596800-1709683199@cannonhillparish.org.au
SUMMARY:NO 9am MASS
DESCRIPTION:
URL:https://cannonhillparish.org.au/event/no-9am-mass/
LOCATION:St Oliver Plunkett Church\, 21 Beauvardia Street\, Cannon Hill\, Q\, 4170\, Australia
CATEGORIES:Celebrations
END:VEVENT
BEGIN:VEVENT
DTSTART;TZID=Australia/Brisbane:20240301T180000
DTEND;TZID=Australia/Brisbane:20240301T190000
DTSTAMP:20260420T135346
CREATED:20240304T012927Z
LAST-MODIFIED:20240304T012927Z
UID:10000210-1709316000-1709319600@cannonhillparish.org.au
SUMMARY:Stations of the Cross + Mass
DESCRIPTION:
URL:https://cannonhillparish.org.au/event/stations-of-the-cross-mass-3/
LOCATION:St Oliver Plunkett Church\, 21 Beauvardia Street\, Cannon Hill\, Q\, 4170\, Australia
CATEGORIES:Celebrations
END:VEVENT
BEGIN:VEVENT
DTSTART;TZID=Australia/Brisbane:20240301T093000
DTEND;TZID=Australia/Brisbane:20240301T113000
DTSTAMP:20260420T135346
CREATED:20240304T013503Z
LAST-MODIFIED:20240304T013503Z
UID:10000213-1709285400-1709292600@cannonhillparish.org.au
SUMMARY:World Day of Prayer
DESCRIPTION:
URL:https://cannonhillparish.org.au/event/world-day-of-prayer/
LOCATION:St Oliver Plunkett Church\, 21 Beauvardia Street\, Cannon Hill\, Q\, 4170\, Australia
CATEGORIES:Celebrations
END:VEVENT
BEGIN:VEVENT
DTSTART;TZID=Australia/Brisbane:20240223T180000
DTEND;TZID=Australia/Brisbane:20240223T190000
DTSTAMP:20260420T135346
CREATED:20240304T012845Z
LAST-MODIFIED:20240304T012845Z
UID:10000206-1708711200-1708714800@cannonhillparish.org.au
SUMMARY:Stations of the Cross + Mass
DESCRIPTION:
URL:https://cannonhillparish.org.au/event/stations-of-the-cross-mass-2/
LOCATION:St Oliver Plunkett Church\, 21 Beauvardia Street\, Cannon Hill\, Q\, 4170\, Australia
CATEGORIES:Celebrations
END:VEVENT
BEGIN:VEVENT
DTSTART;TZID=Australia/Brisbane:20240216T180000
DTEND;TZID=Australia/Brisbane:20240216T190000
DTSTAMP:20260420T135346
CREATED:20240304T012758Z
LAST-MODIFIED:20240304T012758Z
UID:10000205-1708106400-1708110000@cannonhillparish.org.au
SUMMARY:Stations of the Cross + Mass
DESCRIPTION:
URL:https://cannonhillparish.org.au/event/stations-of-the-cross-mass/
LOCATION:St Oliver Plunkett Church\, 21 Beauvardia Street\, Cannon Hill\, Q\, 4170\, Australia
CATEGORIES:Celebrations
END:VEVENT
BEGIN:VEVENT
DTSTART;TZID=Australia/Brisbane:20240204T093000
DTEND;TZID=Australia/Brisbane:20240204T120000
DTSTAMP:20260420T135346
CREATED:20231201T030701Z
LAST-MODIFIED:20231201T030701Z
UID:10000159-1707039000-1707048000@cannonhillparish.org.au
SUMMARY:School Sponsored Mass & Welcoming BBQ
DESCRIPTION:
URL:https://cannonhillparish.org.au/event/school-sponsored-mass-welcoming-bbq/
LOCATION:St Oliver Plunkett Church\, 21 Beauvardia Street\, Cannon Hill\, Q\, 4170\, Australia
CATEGORIES:Celebrations
END:VEVENT
BEGIN:VEVENT
DTSTART;TZID=Australia/Brisbane:20240101T090000
DTEND;TZID=Australia/Brisbane:20240101T093000
DTSTAMP:20260420T135346
CREATED:20240101T063200Z
LAST-MODIFIED:20240101T063200Z
UID:10000169-1704099600-1704101400@cannonhillparish.org.au
SUMMARY:Mass for the Solemnity of Mary\, the Holy Mother of God
DESCRIPTION:
URL:https://cannonhillparish.org.au/event/mass-for-the-solemnity-of-mary-the-holy-mother-of-god/
LOCATION:St Oliver Plunkett Church\, 21 Beauvardia Street\, Cannon Hill\, Q\, 4170\, Australia
CATEGORIES:Celebrations
END:VEVENT
BEGIN:VEVENT
DTSTART;TZID=Australia/Brisbane:20231225T090000
DTEND;TZID=Australia/Brisbane:20231225T100000
DTSTAMP:20260420T135346
CREATED:20231102T053700Z
LAST-MODIFIED:20231102T053700Z
UID:10000153-1703494800-1703498400@cannonhillparish.org.au
SUMMARY:Christmas Day Mass at St Oliver Plunkett Church
DESCRIPTION:
URL:https://cannonhillparish.org.au/event/christmas-day-mass-at-st-oliver-plunkett/
LOCATION:St Oliver Plunkett Church\, 21 Beauvardia Street\, Cannon Hill\, Q\, 4170\, Australia
CATEGORIES:Celebrations
END:VEVENT
BEGIN:VEVENT
DTSTART;TZID=Australia/Brisbane:20231224T173000
DTEND;TZID=Australia/Brisbane:20231224T193000
DTSTAMP:20260420T135346
CREATED:20231026T061647Z
LAST-MODIFIED:20231026T061647Z
UID:10000140-1703439000-1703446200@cannonhillparish.org.au
SUMMARY:Christmas Vigil Mass at St Oliver Plunkett Church
DESCRIPTION:
URL:https://cannonhillparish.org.au/event/christmas-vigil-mass/
LOCATION:St Oliver Plunkett Church\, 21 Beauvardia Street\, Cannon Hill\, Q\, 4170\, Australia
CATEGORIES:Celebrations
END:VEVENT
BEGIN:VEVENT
DTSTART;TZID=Australia/Brisbane:20231201T090000
DTEND;TZID=Australia/Brisbane:20231201T100000
DTSTAMP:20260420T135346
CREATED:20231124T050800Z
LAST-MODIFIED:20231124T050800Z
UID:10000157-1701421200-1701424800@cannonhillparish.org.au
SUMMARY:Friday Mass will be held in the Quad at St Oliver Plunkett School - all welcome
DESCRIPTION:
URL:https://cannonhillparish.org.au/event/friday-mass-will-be-held-in-the-quad-at-st-oliver-plunkett-school/
LOCATION:St Oliver Plunkett Church\, 21 Beauvardia Street\, Cannon Hill\, Q\, 4170\, Australia
CATEGORIES:Celebrations
END:VEVENT
BEGIN:VEVENT
DTSTART;TZID=Australia/Brisbane:20231103T093000
DTEND;TZID=Australia/Brisbane:20231103T100000
DTSTAMP:20260420T135346
CREATED:20231031T051155Z
LAST-MODIFIED:20231031T051155Z
UID:10000152-1699003800-1699005600@cannonhillparish.org.au
SUMMARY:Adoration of the Blessed Sacrament
DESCRIPTION:First Friday of the month following 9.00am Mass at St Oliver Plunkett Church
URL:https://cannonhillparish.org.au/event/adoration-of-the-blessed-sacrament/
LOCATION:St Oliver Plunkett Church\, 21 Beauvardia Street\, Cannon Hill\, Q\, 4170\, Australia
END:VEVENT
BEGIN:VEVENT
DTSTART;TZID=Australia/Brisbane:20231102T180000
DTEND;TZID=Australia/Brisbane:20231102T183000
DTSTAMP:20260420T135346
CREATED:20231031T044916Z
LAST-MODIFIED:20231031T044916Z
UID:10000149-1698948000-1698949800@cannonhillparish.org.au
SUMMARY:Mass for Commemoration of all the Faithful Departed
DESCRIPTION:9.00am Mass at Holy Family Church and 6.00pm Mass at St Oliver Plunkett Church
URL:https://cannonhillparish.org.au/event/mass-for-commemoration-of-all-the-faithful-departed/
LOCATION:St Oliver Plunkett Church\, 21 Beauvardia Street\, Cannon Hill\, Q\, 4170\, Australia
END:VEVENT
BEGIN:VEVENT
DTSTART;VALUE=DATE:20231102
DTEND;VALUE=DATE:20231103
DTSTAMP:20260420T135346
CREATED:20231031T044937Z
LAST-MODIFIED:20231031T044937Z
UID:10000150-1698883200-1698969599@cannonhillparish.org.au
SUMMARY:All Souls Day
DESCRIPTION:9.00am Mass at Holy Family Church and 6.00pm Mass at St Oliver Plunkett Church
URL:https://cannonhillparish.org.au/event/all-souls-day-2/
LOCATION:St Oliver Plunkett Church\, 21 Beauvardia Street\, Cannon Hill\, Q\, 4170\, Australia
END:VEVENT
END:VCALENDAR