BEGIN:VCALENDAR
VERSION:2.0
PRODID:-//St. Oliver Plunkett Church - ECPv6.15.18//NONSGML v1.0//EN
CALSCALE:GREGORIAN
METHOD:PUBLISH
X-WR-CALNAME:St. Oliver Plunkett Church
X-ORIGINAL-URL:https://cannonhillparish.org.au
X-WR-CALDESC:Events for St. Oliver Plunkett Church
REFRESH-INTERVAL;VALUE=DURATION:PT1H
X-Robots-Tag:noindex
X-PUBLISHED-TTL:PT1H
BEGIN:VTIMEZONE
TZID:Australia/Brisbane
BEGIN:STANDARD
TZOFFSETFROM:+1000
TZOFFSETTO:+1000
TZNAME:AEST
DTSTART:20240101T000000
END:STANDARD
END:VTIMEZONE
BEGIN:VEVENT
DTSTART;TZID=Australia/Brisbane:20251012T093000
DTEND;TZID=Australia/Brisbane:20251012T103000
DTSTAMP:20260422T090026
CREATED:20250926T005338Z
LAST-MODIFIED:20250926T005338Z
UID:10002126-1760261400-1760265000@cannonhillparish.org.au
SUMMARY:Multicultural Mass
DESCRIPTION:We will be celebrating a Multi-cultural Mass at 9.30am at Cannon Hill. This is a celebration of the diversity in our Parish community and we welcome anyone who would like to participate to contact the Parish Office. Everyone is invited to dress in traditional attire and children are invited to walk in procession at the beginning of Mass. \nMass will be followed by hospitality. We invite you to bring a dish representing your culture and join us for a wonderful celebration. Please bring your friends and family. If you are bringing food\, please let the Parish Office know so that adequate arrangements can be made. \nNB. The Saturday Vigil Mass will be held at the Holy Family Church\, Tingalpa and there will be no 8:00am Mass on Sunday.
URL:https://cannonhillparish.org.au/event/multicultural-mass/
CATEGORIES:Celebrations
END:VEVENT
END:VCALENDAR