BEGIN:VCALENDAR
VERSION:2.0
PRODID:-//St. Oliver Plunkett Church - ECPv6.15.20//NONSGML v1.0//EN
CALSCALE:GREGORIAN
METHOD:PUBLISH
X-WR-CALNAME:St. Oliver Plunkett Church
X-ORIGINAL-URL:https://cannonhillparish.org.au
X-WR-CALDESC:Events for St. Oliver Plunkett Church
REFRESH-INTERVAL;VALUE=DURATION:PT1H
X-Robots-Tag:noindex
X-PUBLISHED-TTL:PT1H
BEGIN:VTIMEZONE
TZID:Australia/Brisbane
BEGIN:STANDARD
TZOFFSETFROM:+1000
TZOFFSETTO:+1000
TZNAME:AEST
DTSTART:20250101T000000
END:STANDARD
END:VTIMEZONE
BEGIN:VEVENT
DTSTART;TZID=Australia/Brisbane:20260510T093000
DTEND;TZID=Australia/Brisbane:20260510T111500
DTSTAMP:20260426T020638
CREATED:20250529T114831Z
LAST-MODIFIED:20250529T115734Z
UID:10001998-1778405400-1778411700@cannonhillparish.org.au
SUMMARY:Baptisms
DESCRIPTION:
URL:https://cannonhillparish.org.au/event/baptisms-5/2026-05-10/
LOCATION:St Oliver Plunkett Church\, 21 Beauvardia Street\, Cannon Hill\, Q\, 4170\, Australia
CATEGORIES:Sacramental
END:VEVENT
BEGIN:VEVENT
DTSTART;TZID=Australia/Brisbane:20260614T093000
DTEND;TZID=Australia/Brisbane:20260614T111500
DTSTAMP:20260426T020638
CREATED:20250529T114831Z
LAST-MODIFIED:20250529T115734Z
UID:10001999-1781429400-1781435700@cannonhillparish.org.au
SUMMARY:Baptisms
DESCRIPTION:
URL:https://cannonhillparish.org.au/event/baptisms-5/2026-06-14/
LOCATION:St Oliver Plunkett Church\, 21 Beauvardia Street\, Cannon Hill\, Q\, 4170\, Australia
CATEGORIES:Sacramental
END:VEVENT
BEGIN:VEVENT
DTSTART;TZID=Australia/Brisbane:20260712T093000
DTEND;TZID=Australia/Brisbane:20260712T111500
DTSTAMP:20260426T020638
CREATED:20250529T114831Z
LAST-MODIFIED:20250529T115734Z
UID:10002000-1783848600-1783854900@cannonhillparish.org.au
SUMMARY:Baptisms
DESCRIPTION:
URL:https://cannonhillparish.org.au/event/baptisms-5/2026-07-12/
LOCATION:St Oliver Plunkett Church\, 21 Beauvardia Street\, Cannon Hill\, Q\, 4170\, Australia
CATEGORIES:Sacramental
END:VEVENT
BEGIN:VEVENT
DTSTART;TZID=Australia/Brisbane:20260809T093000
DTEND;TZID=Australia/Brisbane:20260809T111500
DTSTAMP:20260426T020638
CREATED:20250529T114831Z
LAST-MODIFIED:20250529T115734Z
UID:10002001-1786267800-1786274100@cannonhillparish.org.au
SUMMARY:Baptisms
DESCRIPTION:
URL:https://cannonhillparish.org.au/event/baptisms-5/2026-08-09/
LOCATION:St Oliver Plunkett Church\, 21 Beauvardia Street\, Cannon Hill\, Q\, 4170\, Australia
CATEGORIES:Sacramental
END:VEVENT
BEGIN:VEVENT
DTSTART;TZID=Australia/Brisbane:20260913T093000
DTEND;TZID=Australia/Brisbane:20260913T111500
DTSTAMP:20260426T020638
CREATED:20250529T114831Z
LAST-MODIFIED:20250529T115734Z
UID:10002002-1789291800-1789298100@cannonhillparish.org.au
SUMMARY:Baptisms
DESCRIPTION:
URL:https://cannonhillparish.org.au/event/baptisms-5/2026-09-13/
LOCATION:St Oliver Plunkett Church\, 21 Beauvardia Street\, Cannon Hill\, Q\, 4170\, Australia
CATEGORIES:Sacramental
END:VEVENT
BEGIN:VEVENT
DTSTART;TZID=Australia/Brisbane:20261011T093000
DTEND;TZID=Australia/Brisbane:20261011T111500
DTSTAMP:20260426T020638
CREATED:20250529T114831Z
LAST-MODIFIED:20250529T115734Z
UID:10002003-1791711000-1791717300@cannonhillparish.org.au
SUMMARY:Baptisms
DESCRIPTION:
URL:https://cannonhillparish.org.au/event/baptisms-5/2026-10-11/
LOCATION:St Oliver Plunkett Church\, 21 Beauvardia Street\, Cannon Hill\, Q\, 4170\, Australia
CATEGORIES:Sacramental
END:VEVENT
BEGIN:VEVENT
DTSTART;TZID=Australia/Brisbane:20261108T093000
DTEND;TZID=Australia/Brisbane:20261108T111500
DTSTAMP:20260426T020638
CREATED:20250529T114831Z
LAST-MODIFIED:20250529T115734Z
UID:10002004-1794130200-1794136500@cannonhillparish.org.au
SUMMARY:Baptisms
DESCRIPTION:
URL:https://cannonhillparish.org.au/event/baptisms-5/2026-11-08/
LOCATION:St Oliver Plunkett Church\, 21 Beauvardia Street\, Cannon Hill\, Q\, 4170\, Australia
CATEGORIES:Sacramental
END:VEVENT
BEGIN:VEVENT
DTSTART;TZID=Australia/Brisbane:20261213T093000
DTEND;TZID=Australia/Brisbane:20261213T111500
DTSTAMP:20260426T020638
CREATED:20250529T114831Z
LAST-MODIFIED:20250529T115734Z
UID:10002005-1797154200-1797160500@cannonhillparish.org.au
SUMMARY:Baptisms
DESCRIPTION:
URL:https://cannonhillparish.org.au/event/baptisms-5/2026-12-13/
LOCATION:St Oliver Plunkett Church\, 21 Beauvardia Street\, Cannon Hill\, Q\, 4170\, Australia
CATEGORIES:Sacramental
END:VEVENT
BEGIN:VEVENT
DTSTART;TZID=Australia/Brisbane:20270110T093000
DTEND;TZID=Australia/Brisbane:20270110T111500
DTSTAMP:20260426T020638
CREATED:20250529T114831Z
LAST-MODIFIED:20250529T115734Z
UID:10002006-1799573400-1799579700@cannonhillparish.org.au
SUMMARY:Baptisms
DESCRIPTION:
URL:https://cannonhillparish.org.au/event/baptisms-5/2027-01-10/
LOCATION:St Oliver Plunkett Church\, 21 Beauvardia Street\, Cannon Hill\, Q\, 4170\, Australia
CATEGORIES:Sacramental
END:VEVENT
BEGIN:VEVENT
DTSTART;TZID=Australia/Brisbane:20270214T093000
DTEND;TZID=Australia/Brisbane:20270214T111500
DTSTAMP:20260426T020638
CREATED:20250529T114831Z
LAST-MODIFIED:20250529T115734Z
UID:10002007-1802597400-1802603700@cannonhillparish.org.au
SUMMARY:Baptisms
DESCRIPTION:
URL:https://cannonhillparish.org.au/event/baptisms-5/2027-02-14/
LOCATION:St Oliver Plunkett Church\, 21 Beauvardia Street\, Cannon Hill\, Q\, 4170\, Australia
CATEGORIES:Sacramental
END:VEVENT
BEGIN:VEVENT
DTSTART;TZID=Australia/Brisbane:20270314T093000
DTEND;TZID=Australia/Brisbane:20270314T111500
DTSTAMP:20260426T020638
CREATED:20250529T114831Z
LAST-MODIFIED:20250529T115734Z
UID:10002008-1805016600-1805022900@cannonhillparish.org.au
SUMMARY:Baptisms
DESCRIPTION:
URL:https://cannonhillparish.org.au/event/baptisms-5/2027-03-14/
LOCATION:St Oliver Plunkett Church\, 21 Beauvardia Street\, Cannon Hill\, Q\, 4170\, Australia
CATEGORIES:Sacramental
END:VEVENT
BEGIN:VEVENT
DTSTART;TZID=Australia/Brisbane:20270411T093000
DTEND;TZID=Australia/Brisbane:20270411T111500
DTSTAMP:20260426T020638
CREATED:20250529T114831Z
LAST-MODIFIED:20250529T115734Z
UID:10002009-1807435800-1807442100@cannonhillparish.org.au
SUMMARY:Baptisms
DESCRIPTION:
URL:https://cannonhillparish.org.au/event/baptisms-5/2027-04-11/
LOCATION:St Oliver Plunkett Church\, 21 Beauvardia Street\, Cannon Hill\, Q\, 4170\, Australia
CATEGORIES:Sacramental
END:VEVENT
BEGIN:VEVENT
DTSTART;TZID=Australia/Brisbane:20270509T093000
DTEND;TZID=Australia/Brisbane:20270509T111500
DTSTAMP:20260426T020638
CREATED:20250529T114831Z
LAST-MODIFIED:20250529T115734Z
UID:10002010-1809855000-1809861300@cannonhillparish.org.au
SUMMARY:Baptisms
DESCRIPTION:
URL:https://cannonhillparish.org.au/event/baptisms-5/2027-05-09/
LOCATION:St Oliver Plunkett Church\, 21 Beauvardia Street\, Cannon Hill\, Q\, 4170\, Australia
CATEGORIES:Sacramental
END:VEVENT
BEGIN:VEVENT
DTSTART;TZID=Australia/Brisbane:20270613T093000
DTEND;TZID=Australia/Brisbane:20270613T111500
DTSTAMP:20260426T020638
CREATED:20250529T114831Z
LAST-MODIFIED:20250529T115734Z
UID:10002011-1812879000-1812885300@cannonhillparish.org.au
SUMMARY:Baptisms
DESCRIPTION:
URL:https://cannonhillparish.org.au/event/baptisms-5/2027-06-13/
LOCATION:St Oliver Plunkett Church\, 21 Beauvardia Street\, Cannon Hill\, Q\, 4170\, Australia
CATEGORIES:Sacramental
END:VEVENT
BEGIN:VEVENT
DTSTART;TZID=Australia/Brisbane:20270711T093000
DTEND;TZID=Australia/Brisbane:20270711T111500
DTSTAMP:20260426T020638
CREATED:20250529T114831Z
LAST-MODIFIED:20250529T115734Z
UID:10002012-1815298200-1815304500@cannonhillparish.org.au
SUMMARY:Baptisms
DESCRIPTION:
URL:https://cannonhillparish.org.au/event/baptisms-5/2027-07-11/
LOCATION:St Oliver Plunkett Church\, 21 Beauvardia Street\, Cannon Hill\, Q\, 4170\, Australia
CATEGORIES:Sacramental
END:VEVENT
BEGIN:VEVENT
DTSTART;TZID=Australia/Brisbane:20270808T093000
DTEND;TZID=Australia/Brisbane:20270808T111500
DTSTAMP:20260426T020638
CREATED:20250529T114831Z
LAST-MODIFIED:20250529T115734Z
UID:10002013-1817717400-1817723700@cannonhillparish.org.au
SUMMARY:Baptisms
DESCRIPTION:
URL:https://cannonhillparish.org.au/event/baptisms-5/2027-08-08/
LOCATION:St Oliver Plunkett Church\, 21 Beauvardia Street\, Cannon Hill\, Q\, 4170\, Australia
CATEGORIES:Sacramental
END:VEVENT
BEGIN:VEVENT
DTSTART;TZID=Australia/Brisbane:20270912T093000
DTEND;TZID=Australia/Brisbane:20270912T111500
DTSTAMP:20260426T020638
CREATED:20250529T114831Z
LAST-MODIFIED:20250529T115734Z
UID:10002014-1820741400-1820747700@cannonhillparish.org.au
SUMMARY:Baptisms
DESCRIPTION:
URL:https://cannonhillparish.org.au/event/baptisms-5/2027-09-12/
LOCATION:St Oliver Plunkett Church\, 21 Beauvardia Street\, Cannon Hill\, Q\, 4170\, Australia
CATEGORIES:Sacramental
END:VEVENT
BEGIN:VEVENT
DTSTART;TZID=Australia/Brisbane:20271010T093000
DTEND;TZID=Australia/Brisbane:20271010T111500
DTSTAMP:20260426T020638
CREATED:20250529T114831Z
LAST-MODIFIED:20250529T115734Z
UID:10002015-1823160600-1823166900@cannonhillparish.org.au
SUMMARY:Baptisms
DESCRIPTION:
URL:https://cannonhillparish.org.au/event/baptisms-5/2027-10-10/
LOCATION:St Oliver Plunkett Church\, 21 Beauvardia Street\, Cannon Hill\, Q\, 4170\, Australia
CATEGORIES:Sacramental
END:VEVENT
BEGIN:VEVENT
DTSTART;TZID=Australia/Brisbane:20271114T093000
DTEND;TZID=Australia/Brisbane:20271114T111500
DTSTAMP:20260426T020638
CREATED:20250529T114831Z
LAST-MODIFIED:20250529T115734Z
UID:10002016-1826184600-1826190900@cannonhillparish.org.au
SUMMARY:Baptisms
DESCRIPTION:
URL:https://cannonhillparish.org.au/event/baptisms-5/2027-11-14/
LOCATION:St Oliver Plunkett Church\, 21 Beauvardia Street\, Cannon Hill\, Q\, 4170\, Australia
CATEGORIES:Sacramental
END:VEVENT
BEGIN:VEVENT
DTSTART;TZID=Australia/Brisbane:20271212T093000
DTEND;TZID=Australia/Brisbane:20271212T111500
DTSTAMP:20260426T020638
CREATED:20250529T114831Z
LAST-MODIFIED:20250529T115734Z
UID:10002017-1828603800-1828610100@cannonhillparish.org.au
SUMMARY:Baptisms
DESCRIPTION:
URL:https://cannonhillparish.org.au/event/baptisms-5/2027-12-12/
LOCATION:St Oliver Plunkett Church\, 21 Beauvardia Street\, Cannon Hill\, Q\, 4170\, Australia
CATEGORIES:Sacramental
END:VEVENT
BEGIN:VEVENT
DTSTART;TZID=Australia/Brisbane:20280109T093000
DTEND;TZID=Australia/Brisbane:20280109T111500
DTSTAMP:20260426T020638
CREATED:20250529T114831Z
LAST-MODIFIED:20250529T115734Z
UID:10002018-1831023000-1831029300@cannonhillparish.org.au
SUMMARY:Baptisms
DESCRIPTION:
URL:https://cannonhillparish.org.au/event/baptisms-5/2028-01-09/
LOCATION:St Oliver Plunkett Church\, 21 Beauvardia Street\, Cannon Hill\, Q\, 4170\, Australia
CATEGORIES:Sacramental
END:VEVENT
BEGIN:VEVENT
DTSTART;TZID=Australia/Brisbane:20280213T093000
DTEND;TZID=Australia/Brisbane:20280213T111500
DTSTAMP:20260426T020638
CREATED:20250529T114831Z
LAST-MODIFIED:20250529T115734Z
UID:10002019-1834047000-1834053300@cannonhillparish.org.au
SUMMARY:Baptisms
DESCRIPTION:
URL:https://cannonhillparish.org.au/event/baptisms-5/2028-02-13/
LOCATION:St Oliver Plunkett Church\, 21 Beauvardia Street\, Cannon Hill\, Q\, 4170\, Australia
CATEGORIES:Sacramental
END:VEVENT
BEGIN:VEVENT
DTSTART;TZID=Australia/Brisbane:20280312T093000
DTEND;TZID=Australia/Brisbane:20280312T111500
DTSTAMP:20260426T020638
CREATED:20250529T114831Z
LAST-MODIFIED:20250529T115734Z
UID:10002020-1836466200-1836472500@cannonhillparish.org.au
SUMMARY:Baptisms
DESCRIPTION:
URL:https://cannonhillparish.org.au/event/baptisms-5/2028-03-12/
LOCATION:St Oliver Plunkett Church\, 21 Beauvardia Street\, Cannon Hill\, Q\, 4170\, Australia
CATEGORIES:Sacramental
END:VEVENT
BEGIN:VEVENT
DTSTART;TZID=Australia/Brisbane:20280409T093000
DTEND;TZID=Australia/Brisbane:20280409T111500
DTSTAMP:20260426T020638
CREATED:20250529T114831Z
LAST-MODIFIED:20250529T115734Z
UID:10002021-1838885400-1838891700@cannonhillparish.org.au
SUMMARY:Baptisms
DESCRIPTION:
URL:https://cannonhillparish.org.au/event/baptisms-5/2028-04-09/
LOCATION:St Oliver Plunkett Church\, 21 Beauvardia Street\, Cannon Hill\, Q\, 4170\, Australia
CATEGORIES:Sacramental
END:VEVENT
BEGIN:VEVENT
DTSTART;TZID=Australia/Brisbane:20280514T093000
DTEND;TZID=Australia/Brisbane:20280514T111500
DTSTAMP:20260426T020638
CREATED:20250529T114831Z
LAST-MODIFIED:20250529T115734Z
UID:10002022-1841909400-1841915700@cannonhillparish.org.au
SUMMARY:Baptisms
DESCRIPTION:
URL:https://cannonhillparish.org.au/event/baptisms-5/2028-05-14/
LOCATION:St Oliver Plunkett Church\, 21 Beauvardia Street\, Cannon Hill\, Q\, 4170\, Australia
CATEGORIES:Sacramental
END:VEVENT
BEGIN:VEVENT
DTSTART;TZID=Australia/Brisbane:20280611T093000
DTEND;TZID=Australia/Brisbane:20280611T111500
DTSTAMP:20260426T020638
CREATED:20250529T114831Z
LAST-MODIFIED:20250529T115734Z
UID:10002023-1844328600-1844334900@cannonhillparish.org.au
SUMMARY:Baptisms
DESCRIPTION:
URL:https://cannonhillparish.org.au/event/baptisms-5/2028-06-11/
LOCATION:St Oliver Plunkett Church\, 21 Beauvardia Street\, Cannon Hill\, Q\, 4170\, Australia
CATEGORIES:Sacramental
END:VEVENT
BEGIN:VEVENT
DTSTART;TZID=Australia/Brisbane:20280709T093000
DTEND;TZID=Australia/Brisbane:20280709T111500
DTSTAMP:20260426T020638
CREATED:20250529T114831Z
LAST-MODIFIED:20250529T115734Z
UID:10002024-1846747800-1846754100@cannonhillparish.org.au
SUMMARY:Baptisms
DESCRIPTION:
URL:https://cannonhillparish.org.au/event/baptisms-5/2028-07-09/
LOCATION:St Oliver Plunkett Church\, 21 Beauvardia Street\, Cannon Hill\, Q\, 4170\, Australia
CATEGORIES:Sacramental
END:VEVENT
BEGIN:VEVENT
DTSTART;TZID=Australia/Brisbane:20280813T093000
DTEND;TZID=Australia/Brisbane:20280813T111500
DTSTAMP:20260426T020638
CREATED:20250529T114831Z
LAST-MODIFIED:20250529T115734Z
UID:10002025-1849771800-1849778100@cannonhillparish.org.au
SUMMARY:Baptisms
DESCRIPTION:
URL:https://cannonhillparish.org.au/event/baptisms-5/2028-08-13/
LOCATION:St Oliver Plunkett Church\, 21 Beauvardia Street\, Cannon Hill\, Q\, 4170\, Australia
CATEGORIES:Sacramental
END:VEVENT
BEGIN:VEVENT
DTSTART;TZID=Australia/Brisbane:20280910T093000
DTEND;TZID=Australia/Brisbane:20280910T111500
DTSTAMP:20260426T020638
CREATED:20250529T114831Z
LAST-MODIFIED:20250529T115734Z
UID:10002026-1852191000-1852197300@cannonhillparish.org.au
SUMMARY:Baptisms
DESCRIPTION:
URL:https://cannonhillparish.org.au/event/baptisms-5/2028-09-10/
LOCATION:St Oliver Plunkett Church\, 21 Beauvardia Street\, Cannon Hill\, Q\, 4170\, Australia
CATEGORIES:Sacramental
END:VEVENT
BEGIN:VEVENT
DTSTART;TZID=Australia/Brisbane:20281008T093000
DTEND;TZID=Australia/Brisbane:20281008T111500
DTSTAMP:20260426T020638
CREATED:20250529T114831Z
LAST-MODIFIED:20250529T115734Z
UID:10002027-1854610200-1854616500@cannonhillparish.org.au
SUMMARY:Baptisms
DESCRIPTION:
URL:https://cannonhillparish.org.au/event/baptisms-5/2028-10-08/
LOCATION:St Oliver Plunkett Church\, 21 Beauvardia Street\, Cannon Hill\, Q\, 4170\, Australia
CATEGORIES:Sacramental
END:VEVENT
END:VCALENDAR