BEGIN:VCALENDAR
VERSION:2.0
PRODID:-//St. Oliver Plunkett Church - ECPv6.15.18//NONSGML v1.0//EN
CALSCALE:GREGORIAN
METHOD:PUBLISH
X-WR-CALNAME:St. Oliver Plunkett Church
X-ORIGINAL-URL:https://cannonhillparish.org.au
X-WR-CALDESC:Events for St. Oliver Plunkett Church
REFRESH-INTERVAL;VALUE=DURATION:PT1H
X-Robots-Tag:noindex
X-PUBLISHED-TTL:PT1H
BEGIN:VTIMEZONE
TZID:Australia/Brisbane
BEGIN:STANDARD
TZOFFSETFROM:+1000
TZOFFSETTO:+1000
TZNAME:AEST
DTSTART:20250101T000000
END:STANDARD
END:VTIMEZONE
BEGIN:VEVENT
DTSTART;TZID=Australia/Brisbane:20260423T180000
DTEND;TZID=Australia/Brisbane:20260423T200000
DTSTAMP:20260421T220429
CREATED:20241221T030122Z
LAST-MODIFIED:20260323T000153Z
UID:10000386-1776967200-1776974400@cannonhillparish.org.au
SUMMARY:Connect Dinner
DESCRIPTION:All Alpha attendees\, family and friends\, are warmly invited to Connect Dinners held every fortnight in the Parish Hall.  \nSimply bring a dish to share and enjoy a short presentation followed by an engaging discussion. All welcome!!!
URL:https://cannonhillparish.org.au/event/alpha-connect-dinner/2026-04-23/
LOCATION:St Oliver Plunkett Church\, 21 Beauvardia Street\, Cannon Hill\, Q\, 4170\, Australia
CATEGORIES:Meetings
END:VEVENT
BEGIN:VEVENT
DTSTART;TZID=Australia/Brisbane:20260507T180000
DTEND;TZID=Australia/Brisbane:20260507T200000
DTSTAMP:20260421T220429
CREATED:20241221T030122Z
LAST-MODIFIED:20260323T000153Z
UID:10000387-1778176800-1778184000@cannonhillparish.org.au
SUMMARY:Connect Dinner
DESCRIPTION:All Alpha attendees\, family and friends\, are warmly invited to Connect Dinners held every fortnight in the Parish Hall.  \nSimply bring a dish to share and enjoy a short presentation followed by an engaging discussion. All welcome!!!
URL:https://cannonhillparish.org.au/event/alpha-connect-dinner/2026-05-07/
LOCATION:St Oliver Plunkett Church\, 21 Beauvardia Street\, Cannon Hill\, Q\, 4170\, Australia
CATEGORIES:Meetings
END:VEVENT
BEGIN:VEVENT
DTSTART;TZID=Australia/Brisbane:20260521T180000
DTEND;TZID=Australia/Brisbane:20260521T200000
DTSTAMP:20260421T220429
CREATED:20241221T030122Z
LAST-MODIFIED:20260323T000153Z
UID:10000388-1779386400-1779393600@cannonhillparish.org.au
SUMMARY:Connect Dinner
DESCRIPTION:All Alpha attendees\, family and friends\, are warmly invited to Connect Dinners held every fortnight in the Parish Hall.  \nSimply bring a dish to share and enjoy a short presentation followed by an engaging discussion. All welcome!!!
URL:https://cannonhillparish.org.au/event/alpha-connect-dinner/2026-05-21/
LOCATION:St Oliver Plunkett Church\, 21 Beauvardia Street\, Cannon Hill\, Q\, 4170\, Australia
CATEGORIES:Meetings
END:VEVENT
BEGIN:VEVENT
DTSTART;TZID=Australia/Brisbane:20260604T180000
DTEND;TZID=Australia/Brisbane:20260604T200000
DTSTAMP:20260421T220429
CREATED:20241221T030122Z
LAST-MODIFIED:20260323T000153Z
UID:10000389-1780596000-1780603200@cannonhillparish.org.au
SUMMARY:Connect Dinner
DESCRIPTION:All Alpha attendees\, family and friends\, are warmly invited to Connect Dinners held every fortnight in the Parish Hall.  \nSimply bring a dish to share and enjoy a short presentation followed by an engaging discussion. All welcome!!!
URL:https://cannonhillparish.org.au/event/alpha-connect-dinner/2026-06-04/
LOCATION:St Oliver Plunkett Church\, 21 Beauvardia Street\, Cannon Hill\, Q\, 4170\, Australia
CATEGORIES:Meetings
END:VEVENT
BEGIN:VEVENT
DTSTART;TZID=Australia/Brisbane:20260618T180000
DTEND;TZID=Australia/Brisbane:20260618T200000
DTSTAMP:20260421T220429
CREATED:20241221T030122Z
LAST-MODIFIED:20260323T000153Z
UID:10000390-1781805600-1781812800@cannonhillparish.org.au
SUMMARY:Connect Dinner
DESCRIPTION:All Alpha attendees\, family and friends\, are warmly invited to Connect Dinners held every fortnight in the Parish Hall.  \nSimply bring a dish to share and enjoy a short presentation followed by an engaging discussion. All welcome!!!
URL:https://cannonhillparish.org.au/event/alpha-connect-dinner/2026-06-18/
LOCATION:St Oliver Plunkett Church\, 21 Beauvardia Street\, Cannon Hill\, Q\, 4170\, Australia
CATEGORIES:Meetings
END:VEVENT
BEGIN:VEVENT
DTSTART;TZID=Australia/Brisbane:20260702T180000
DTEND;TZID=Australia/Brisbane:20260702T200000
DTSTAMP:20260421T220429
CREATED:20241221T030122Z
LAST-MODIFIED:20260323T000153Z
UID:10000391-1783015200-1783022400@cannonhillparish.org.au
SUMMARY:Connect Dinner
DESCRIPTION:All Alpha attendees\, family and friends\, are warmly invited to Connect Dinners held every fortnight in the Parish Hall.  \nSimply bring a dish to share and enjoy a short presentation followed by an engaging discussion. All welcome!!!
URL:https://cannonhillparish.org.au/event/alpha-connect-dinner/2026-07-02/
LOCATION:St Oliver Plunkett Church\, 21 Beauvardia Street\, Cannon Hill\, Q\, 4170\, Australia
CATEGORIES:Meetings
END:VEVENT
BEGIN:VEVENT
DTSTART;TZID=Australia/Brisbane:20260716T180000
DTEND;TZID=Australia/Brisbane:20260716T200000
DTSTAMP:20260421T220429
CREATED:20241221T030122Z
LAST-MODIFIED:20260323T000153Z
UID:10000392-1784224800-1784232000@cannonhillparish.org.au
SUMMARY:Connect Dinner
DESCRIPTION:All Alpha attendees\, family and friends\, are warmly invited to Connect Dinners held every fortnight in the Parish Hall.  \nSimply bring a dish to share and enjoy a short presentation followed by an engaging discussion. All welcome!!!
URL:https://cannonhillparish.org.au/event/alpha-connect-dinner/2026-07-16/
LOCATION:St Oliver Plunkett Church\, 21 Beauvardia Street\, Cannon Hill\, Q\, 4170\, Australia
CATEGORIES:Meetings
END:VEVENT
BEGIN:VEVENT
DTSTART;TZID=Australia/Brisbane:20260730T180000
DTEND;TZID=Australia/Brisbane:20260730T200000
DTSTAMP:20260421T220429
CREATED:20241221T030122Z
LAST-MODIFIED:20260323T000153Z
UID:10000393-1785434400-1785441600@cannonhillparish.org.au
SUMMARY:Connect Dinner
DESCRIPTION:All Alpha attendees\, family and friends\, are warmly invited to Connect Dinners held every fortnight in the Parish Hall.  \nSimply bring a dish to share and enjoy a short presentation followed by an engaging discussion. All welcome!!!
URL:https://cannonhillparish.org.au/event/alpha-connect-dinner/2026-07-30/
LOCATION:St Oliver Plunkett Church\, 21 Beauvardia Street\, Cannon Hill\, Q\, 4170\, Australia
CATEGORIES:Meetings
END:VEVENT
BEGIN:VEVENT
DTSTART;TZID=Australia/Brisbane:20260813T180000
DTEND;TZID=Australia/Brisbane:20260813T200000
DTSTAMP:20260421T220429
CREATED:20241221T030122Z
LAST-MODIFIED:20260323T000153Z
UID:10000394-1786644000-1786651200@cannonhillparish.org.au
SUMMARY:Connect Dinner
DESCRIPTION:All Alpha attendees\, family and friends\, are warmly invited to Connect Dinners held every fortnight in the Parish Hall.  \nSimply bring a dish to share and enjoy a short presentation followed by an engaging discussion. All welcome!!!
URL:https://cannonhillparish.org.au/event/alpha-connect-dinner/2026-08-13/
LOCATION:St Oliver Plunkett Church\, 21 Beauvardia Street\, Cannon Hill\, Q\, 4170\, Australia
CATEGORIES:Meetings
END:VEVENT
BEGIN:VEVENT
DTSTART;TZID=Australia/Brisbane:20260827T180000
DTEND;TZID=Australia/Brisbane:20260827T200000
DTSTAMP:20260421T220429
CREATED:20241221T030122Z
LAST-MODIFIED:20260323T000153Z
UID:10000395-1787853600-1787860800@cannonhillparish.org.au
SUMMARY:Connect Dinner
DESCRIPTION:All Alpha attendees\, family and friends\, are warmly invited to Connect Dinners held every fortnight in the Parish Hall.  \nSimply bring a dish to share and enjoy a short presentation followed by an engaging discussion. All welcome!!!
URL:https://cannonhillparish.org.au/event/alpha-connect-dinner/2026-08-27/
LOCATION:St Oliver Plunkett Church\, 21 Beauvardia Street\, Cannon Hill\, Q\, 4170\, Australia
CATEGORIES:Meetings
END:VEVENT
BEGIN:VEVENT
DTSTART;TZID=Australia/Brisbane:20260910T180000
DTEND;TZID=Australia/Brisbane:20260910T200000
DTSTAMP:20260421T220429
CREATED:20241221T030122Z
LAST-MODIFIED:20260323T000153Z
UID:10000396-1789063200-1789070400@cannonhillparish.org.au
SUMMARY:Connect Dinner
DESCRIPTION:All Alpha attendees\, family and friends\, are warmly invited to Connect Dinners held every fortnight in the Parish Hall.  \nSimply bring a dish to share and enjoy a short presentation followed by an engaging discussion. All welcome!!!
URL:https://cannonhillparish.org.au/event/alpha-connect-dinner/2026-09-10/
LOCATION:St Oliver Plunkett Church\, 21 Beauvardia Street\, Cannon Hill\, Q\, 4170\, Australia
CATEGORIES:Meetings
END:VEVENT
BEGIN:VEVENT
DTSTART;TZID=Australia/Brisbane:20260924T180000
DTEND;TZID=Australia/Brisbane:20260924T200000
DTSTAMP:20260421T220429
CREATED:20241221T030122Z
LAST-MODIFIED:20260323T000153Z
UID:10000397-1790272800-1790280000@cannonhillparish.org.au
SUMMARY:Connect Dinner
DESCRIPTION:All Alpha attendees\, family and friends\, are warmly invited to Connect Dinners held every fortnight in the Parish Hall.  \nSimply bring a dish to share and enjoy a short presentation followed by an engaging discussion. All welcome!!!
URL:https://cannonhillparish.org.au/event/alpha-connect-dinner/2026-09-24/
LOCATION:St Oliver Plunkett Church\, 21 Beauvardia Street\, Cannon Hill\, Q\, 4170\, Australia
CATEGORIES:Meetings
END:VEVENT
BEGIN:VEVENT
DTSTART;TZID=Australia/Brisbane:20261008T180000
DTEND;TZID=Australia/Brisbane:20261008T200000
DTSTAMP:20260421T220429
CREATED:20241221T030122Z
LAST-MODIFIED:20260323T000153Z
UID:10000398-1791482400-1791489600@cannonhillparish.org.au
SUMMARY:Connect Dinner
DESCRIPTION:All Alpha attendees\, family and friends\, are warmly invited to Connect Dinners held every fortnight in the Parish Hall.  \nSimply bring a dish to share and enjoy a short presentation followed by an engaging discussion. All welcome!!!
URL:https://cannonhillparish.org.au/event/alpha-connect-dinner/2026-10-08/
LOCATION:St Oliver Plunkett Church\, 21 Beauvardia Street\, Cannon Hill\, Q\, 4170\, Australia
CATEGORIES:Meetings
END:VEVENT
BEGIN:VEVENT
DTSTART;TZID=Australia/Brisbane:20261022T180000
DTEND;TZID=Australia/Brisbane:20261022T200000
DTSTAMP:20260421T220429
CREATED:20241221T030122Z
LAST-MODIFIED:20260323T000153Z
UID:10000399-1792692000-1792699200@cannonhillparish.org.au
SUMMARY:Connect Dinner
DESCRIPTION:All Alpha attendees\, family and friends\, are warmly invited to Connect Dinners held every fortnight in the Parish Hall.  \nSimply bring a dish to share and enjoy a short presentation followed by an engaging discussion. All welcome!!!
URL:https://cannonhillparish.org.au/event/alpha-connect-dinner/2026-10-22/
LOCATION:St Oliver Plunkett Church\, 21 Beauvardia Street\, Cannon Hill\, Q\, 4170\, Australia
CATEGORIES:Meetings
END:VEVENT
BEGIN:VEVENT
DTSTART;TZID=Australia/Brisbane:20261105T180000
DTEND;TZID=Australia/Brisbane:20261105T200000
DTSTAMP:20260421T220429
CREATED:20241221T030122Z
LAST-MODIFIED:20260323T000153Z
UID:10000400-1793901600-1793908800@cannonhillparish.org.au
SUMMARY:Connect Dinner
DESCRIPTION:All Alpha attendees\, family and friends\, are warmly invited to Connect Dinners held every fortnight in the Parish Hall.  \nSimply bring a dish to share and enjoy a short presentation followed by an engaging discussion. All welcome!!!
URL:https://cannonhillparish.org.au/event/alpha-connect-dinner/2026-11-05/
LOCATION:St Oliver Plunkett Church\, 21 Beauvardia Street\, Cannon Hill\, Q\, 4170\, Australia
CATEGORIES:Meetings
END:VEVENT
BEGIN:VEVENT
DTSTART;TZID=Australia/Brisbane:20261119T180000
DTEND;TZID=Australia/Brisbane:20261119T200000
DTSTAMP:20260421T220429
CREATED:20241221T030122Z
LAST-MODIFIED:20260323T000153Z
UID:10000401-1795111200-1795118400@cannonhillparish.org.au
SUMMARY:Connect Dinner
DESCRIPTION:All Alpha attendees\, family and friends\, are warmly invited to Connect Dinners held every fortnight in the Parish Hall.  \nSimply bring a dish to share and enjoy a short presentation followed by an engaging discussion. All welcome!!!
URL:https://cannonhillparish.org.au/event/alpha-connect-dinner/2026-11-19/
LOCATION:St Oliver Plunkett Church\, 21 Beauvardia Street\, Cannon Hill\, Q\, 4170\, Australia
CATEGORIES:Meetings
END:VEVENT
BEGIN:VEVENT
DTSTART;TZID=Australia/Brisbane:20261203T180000
DTEND;TZID=Australia/Brisbane:20261203T200000
DTSTAMP:20260421T220429
CREATED:20241221T030122Z
LAST-MODIFIED:20260323T000153Z
UID:10000402-1796320800-1796328000@cannonhillparish.org.au
SUMMARY:Connect Dinner
DESCRIPTION:All Alpha attendees\, family and friends\, are warmly invited to Connect Dinners held every fortnight in the Parish Hall.  \nSimply bring a dish to share and enjoy a short presentation followed by an engaging discussion. All welcome!!!
URL:https://cannonhillparish.org.au/event/alpha-connect-dinner/2026-12-03/
LOCATION:St Oliver Plunkett Church\, 21 Beauvardia Street\, Cannon Hill\, Q\, 4170\, Australia
CATEGORIES:Meetings
END:VEVENT
BEGIN:VEVENT
DTSTART;TZID=Australia/Brisbane:20261217T180000
DTEND;TZID=Australia/Brisbane:20261217T200000
DTSTAMP:20260421T220429
CREATED:20241221T030122Z
LAST-MODIFIED:20260323T000153Z
UID:10000403-1797530400-1797537600@cannonhillparish.org.au
SUMMARY:Connect Dinner
DESCRIPTION:All Alpha attendees\, family and friends\, are warmly invited to Connect Dinners held every fortnight in the Parish Hall.  \nSimply bring a dish to share and enjoy a short presentation followed by an engaging discussion. All welcome!!!
URL:https://cannonhillparish.org.au/event/alpha-connect-dinner/2026-12-17/
LOCATION:St Oliver Plunkett Church\, 21 Beauvardia Street\, Cannon Hill\, Q\, 4170\, Australia
CATEGORIES:Meetings
END:VEVENT
BEGIN:VEVENT
DTSTART;TZID=Australia/Brisbane:20261231T180000
DTEND;TZID=Australia/Brisbane:20261231T200000
DTSTAMP:20260421T220429
CREATED:20241221T030122Z
LAST-MODIFIED:20260323T000153Z
UID:10000404-1798740000-1798747200@cannonhillparish.org.au
SUMMARY:Connect Dinner
DESCRIPTION:All Alpha attendees\, family and friends\, are warmly invited to Connect Dinners held every fortnight in the Parish Hall.  \nSimply bring a dish to share and enjoy a short presentation followed by an engaging discussion. All welcome!!!
URL:https://cannonhillparish.org.au/event/alpha-connect-dinner/2026-12-31/
LOCATION:St Oliver Plunkett Church\, 21 Beauvardia Street\, Cannon Hill\, Q\, 4170\, Australia
CATEGORIES:Meetings
END:VEVENT
BEGIN:VEVENT
DTSTART;TZID=Australia/Brisbane:20270114T180000
DTEND;TZID=Australia/Brisbane:20270114T200000
DTSTAMP:20260421T220429
CREATED:20241221T030122Z
LAST-MODIFIED:20260323T000153Z
UID:10000405-1799949600-1799956800@cannonhillparish.org.au
SUMMARY:Connect Dinner
DESCRIPTION:All Alpha attendees\, family and friends\, are warmly invited to Connect Dinners held every fortnight in the Parish Hall.  \nSimply bring a dish to share and enjoy a short presentation followed by an engaging discussion. All welcome!!!
URL:https://cannonhillparish.org.au/event/alpha-connect-dinner/2027-01-14/
LOCATION:St Oliver Plunkett Church\, 21 Beauvardia Street\, Cannon Hill\, Q\, 4170\, Australia
CATEGORIES:Meetings
END:VEVENT
BEGIN:VEVENT
DTSTART;TZID=Australia/Brisbane:20270128T180000
DTEND;TZID=Australia/Brisbane:20270128T200000
DTSTAMP:20260421T220429
CREATED:20241221T030122Z
LAST-MODIFIED:20260323T000153Z
UID:10000406-1801159200-1801166400@cannonhillparish.org.au
SUMMARY:Connect Dinner
DESCRIPTION:All Alpha attendees\, family and friends\, are warmly invited to Connect Dinners held every fortnight in the Parish Hall.  \nSimply bring a dish to share and enjoy a short presentation followed by an engaging discussion. All welcome!!!
URL:https://cannonhillparish.org.au/event/alpha-connect-dinner/2027-01-28/
LOCATION:St Oliver Plunkett Church\, 21 Beauvardia Street\, Cannon Hill\, Q\, 4170\, Australia
CATEGORIES:Meetings
END:VEVENT
BEGIN:VEVENT
DTSTART;TZID=Australia/Brisbane:20270211T180000
DTEND;TZID=Australia/Brisbane:20270211T200000
DTSTAMP:20260421T220429
CREATED:20241221T030122Z
LAST-MODIFIED:20260323T000153Z
UID:10000407-1802368800-1802376000@cannonhillparish.org.au
SUMMARY:Connect Dinner
DESCRIPTION:All Alpha attendees\, family and friends\, are warmly invited to Connect Dinners held every fortnight in the Parish Hall.  \nSimply bring a dish to share and enjoy a short presentation followed by an engaging discussion. All welcome!!!
URL:https://cannonhillparish.org.au/event/alpha-connect-dinner/2027-02-11/
LOCATION:St Oliver Plunkett Church\, 21 Beauvardia Street\, Cannon Hill\, Q\, 4170\, Australia
CATEGORIES:Meetings
END:VEVENT
BEGIN:VEVENT
DTSTART;TZID=Australia/Brisbane:20270225T180000
DTEND;TZID=Australia/Brisbane:20270225T200000
DTSTAMP:20260421T220429
CREATED:20241221T030122Z
LAST-MODIFIED:20260323T000153Z
UID:10000408-1803578400-1803585600@cannonhillparish.org.au
SUMMARY:Connect Dinner
DESCRIPTION:All Alpha attendees\, family and friends\, are warmly invited to Connect Dinners held every fortnight in the Parish Hall.  \nSimply bring a dish to share and enjoy a short presentation followed by an engaging discussion. All welcome!!!
URL:https://cannonhillparish.org.au/event/alpha-connect-dinner/2027-02-25/
LOCATION:St Oliver Plunkett Church\, 21 Beauvardia Street\, Cannon Hill\, Q\, 4170\, Australia
CATEGORIES:Meetings
END:VEVENT
BEGIN:VEVENT
DTSTART;TZID=Australia/Brisbane:20270311T180000
DTEND;TZID=Australia/Brisbane:20270311T200000
DTSTAMP:20260421T220429
CREATED:20241221T030122Z
LAST-MODIFIED:20260323T000153Z
UID:10000409-1804788000-1804795200@cannonhillparish.org.au
SUMMARY:Connect Dinner
DESCRIPTION:All Alpha attendees\, family and friends\, are warmly invited to Connect Dinners held every fortnight in the Parish Hall.  \nSimply bring a dish to share and enjoy a short presentation followed by an engaging discussion. All welcome!!!
URL:https://cannonhillparish.org.au/event/alpha-connect-dinner/2027-03-11/
LOCATION:St Oliver Plunkett Church\, 21 Beauvardia Street\, Cannon Hill\, Q\, 4170\, Australia
CATEGORIES:Meetings
END:VEVENT
BEGIN:VEVENT
DTSTART;TZID=Australia/Brisbane:20270325T180000
DTEND;TZID=Australia/Brisbane:20270325T200000
DTSTAMP:20260421T220430
CREATED:20241221T030122Z
LAST-MODIFIED:20260323T000153Z
UID:10000410-1805997600-1806004800@cannonhillparish.org.au
SUMMARY:Connect Dinner
DESCRIPTION:All Alpha attendees\, family and friends\, are warmly invited to Connect Dinners held every fortnight in the Parish Hall.  \nSimply bring a dish to share and enjoy a short presentation followed by an engaging discussion. All welcome!!!
URL:https://cannonhillparish.org.au/event/alpha-connect-dinner/2027-03-25/
LOCATION:St Oliver Plunkett Church\, 21 Beauvardia Street\, Cannon Hill\, Q\, 4170\, Australia
CATEGORIES:Meetings
END:VEVENT
BEGIN:VEVENT
DTSTART;TZID=Australia/Brisbane:20270408T180000
DTEND;TZID=Australia/Brisbane:20270408T200000
DTSTAMP:20260421T220430
CREATED:20241221T030122Z
LAST-MODIFIED:20260323T000153Z
UID:10000411-1807207200-1807214400@cannonhillparish.org.au
SUMMARY:Connect Dinner
DESCRIPTION:All Alpha attendees\, family and friends\, are warmly invited to Connect Dinners held every fortnight in the Parish Hall.  \nSimply bring a dish to share and enjoy a short presentation followed by an engaging discussion. All welcome!!!
URL:https://cannonhillparish.org.au/event/alpha-connect-dinner/2027-04-08/
LOCATION:St Oliver Plunkett Church\, 21 Beauvardia Street\, Cannon Hill\, Q\, 4170\, Australia
CATEGORIES:Meetings
END:VEVENT
BEGIN:VEVENT
DTSTART;TZID=Australia/Brisbane:20270422T180000
DTEND;TZID=Australia/Brisbane:20270422T200000
DTSTAMP:20260421T220430
CREATED:20241221T030122Z
LAST-MODIFIED:20260323T000153Z
UID:10000412-1808416800-1808424000@cannonhillparish.org.au
SUMMARY:Connect Dinner
DESCRIPTION:All Alpha attendees\, family and friends\, are warmly invited to Connect Dinners held every fortnight in the Parish Hall.  \nSimply bring a dish to share and enjoy a short presentation followed by an engaging discussion. All welcome!!!
URL:https://cannonhillparish.org.au/event/alpha-connect-dinner/2027-04-22/
LOCATION:St Oliver Plunkett Church\, 21 Beauvardia Street\, Cannon Hill\, Q\, 4170\, Australia
CATEGORIES:Meetings
END:VEVENT
BEGIN:VEVENT
DTSTART;TZID=Australia/Brisbane:20270506T180000
DTEND;TZID=Australia/Brisbane:20270506T200000
DTSTAMP:20260421T220430
CREATED:20241221T030122Z
LAST-MODIFIED:20260323T000153Z
UID:10000413-1809626400-1809633600@cannonhillparish.org.au
SUMMARY:Connect Dinner
DESCRIPTION:All Alpha attendees\, family and friends\, are warmly invited to Connect Dinners held every fortnight in the Parish Hall.  \nSimply bring a dish to share and enjoy a short presentation followed by an engaging discussion. All welcome!!!
URL:https://cannonhillparish.org.au/event/alpha-connect-dinner/2027-05-06/
LOCATION:St Oliver Plunkett Church\, 21 Beauvardia Street\, Cannon Hill\, Q\, 4170\, Australia
CATEGORIES:Meetings
END:VEVENT
BEGIN:VEVENT
DTSTART;TZID=Australia/Brisbane:20270520T180000
DTEND;TZID=Australia/Brisbane:20270520T200000
DTSTAMP:20260421T220430
CREATED:20241221T030122Z
LAST-MODIFIED:20260323T000153Z
UID:10000414-1810836000-1810843200@cannonhillparish.org.au
SUMMARY:Connect Dinner
DESCRIPTION:All Alpha attendees\, family and friends\, are warmly invited to Connect Dinners held every fortnight in the Parish Hall.  \nSimply bring a dish to share and enjoy a short presentation followed by an engaging discussion. All welcome!!!
URL:https://cannonhillparish.org.au/event/alpha-connect-dinner/2027-05-20/
LOCATION:St Oliver Plunkett Church\, 21 Beauvardia Street\, Cannon Hill\, Q\, 4170\, Australia
CATEGORIES:Meetings
END:VEVENT
BEGIN:VEVENT
DTSTART;TZID=Australia/Brisbane:20270603T180000
DTEND;TZID=Australia/Brisbane:20270603T200000
DTSTAMP:20260421T220430
CREATED:20241221T030122Z
LAST-MODIFIED:20260323T000153Z
UID:10000415-1812045600-1812052800@cannonhillparish.org.au
SUMMARY:Connect Dinner
DESCRIPTION:All Alpha attendees\, family and friends\, are warmly invited to Connect Dinners held every fortnight in the Parish Hall.  \nSimply bring a dish to share and enjoy a short presentation followed by an engaging discussion. All welcome!!!
URL:https://cannonhillparish.org.au/event/alpha-connect-dinner/2027-06-03/
LOCATION:St Oliver Plunkett Church\, 21 Beauvardia Street\, Cannon Hill\, Q\, 4170\, Australia
CATEGORIES:Meetings
END:VEVENT
END:VCALENDAR