BEGIN:VCALENDAR
VERSION:2.0
PRODID:-//St. Oliver Plunkett Church - ECPv6.15.20//NONSGML v1.0//EN
CALSCALE:GREGORIAN
METHOD:PUBLISH
X-WR-CALNAME:St. Oliver Plunkett Church
X-ORIGINAL-URL:https://cannonhillparish.org.au
X-WR-CALDESC:Events for St. Oliver Plunkett Church
REFRESH-INTERVAL;VALUE=DURATION:PT1H
X-Robots-Tag:noindex
X-PUBLISHED-TTL:PT1H
BEGIN:VTIMEZONE
TZID:Australia/Brisbane
BEGIN:STANDARD
TZOFFSETFROM:+1000
TZOFFSETTO:+1000
TZNAME:AEST
DTSTART:20250101T000000
END:STANDARD
END:VTIMEZONE
BEGIN:VEVENT
DTSTART;TZID=Australia/Brisbane:20260501T093000
DTEND;TZID=Australia/Brisbane:20260501T100000
DTSTAMP:20260426T020618
CREATED:20241220T112128Z
LAST-MODIFIED:20250303T030753Z
UID:10000270-1777627800-1777629600@cannonhillparish.org.au
SUMMARY:Adoration of the Blessed Sacrament
DESCRIPTION:First Friday of the month following 9.00am Mass at St Oliver Plunkett Church.
URL:https://cannonhillparish.org.au/event/adoration-of-the-blessed-sacrament-2/2026-05-01/
LOCATION:St Oliver Plunkett Church\, 21 Beauvardia Street\, Cannon Hill\, Q\, 4170\, Australia
END:VEVENT
BEGIN:VEVENT
DTSTART;TZID=Australia/Brisbane:20260605T093000
DTEND;TZID=Australia/Brisbane:20260605T100000
DTSTAMP:20260426T020618
CREATED:20241220T112128Z
LAST-MODIFIED:20250303T030753Z
UID:10000271-1780651800-1780653600@cannonhillparish.org.au
SUMMARY:Adoration of the Blessed Sacrament
DESCRIPTION:First Friday of the month following 9.00am Mass at St Oliver Plunkett Church.
URL:https://cannonhillparish.org.au/event/adoration-of-the-blessed-sacrament-2/2026-06-05/
LOCATION:St Oliver Plunkett Church\, 21 Beauvardia Street\, Cannon Hill\, Q\, 4170\, Australia
END:VEVENT
BEGIN:VEVENT
DTSTART;TZID=Australia/Brisbane:20260703T093000
DTEND;TZID=Australia/Brisbane:20260703T100000
DTSTAMP:20260426T020618
CREATED:20241220T112128Z
LAST-MODIFIED:20250303T030753Z
UID:10000272-1783071000-1783072800@cannonhillparish.org.au
SUMMARY:Adoration of the Blessed Sacrament
DESCRIPTION:First Friday of the month following 9.00am Mass at St Oliver Plunkett Church.
URL:https://cannonhillparish.org.au/event/adoration-of-the-blessed-sacrament-2/2026-07-03/
LOCATION:St Oliver Plunkett Church\, 21 Beauvardia Street\, Cannon Hill\, Q\, 4170\, Australia
END:VEVENT
BEGIN:VEVENT
DTSTART;TZID=Australia/Brisbane:20260807T093000
DTEND;TZID=Australia/Brisbane:20260807T100000
DTSTAMP:20260426T020618
CREATED:20241220T112128Z
LAST-MODIFIED:20250303T030753Z
UID:10000273-1786095000-1786096800@cannonhillparish.org.au
SUMMARY:Adoration of the Blessed Sacrament
DESCRIPTION:First Friday of the month following 9.00am Mass at St Oliver Plunkett Church.
URL:https://cannonhillparish.org.au/event/adoration-of-the-blessed-sacrament-2/2026-08-07/
LOCATION:St Oliver Plunkett Church\, 21 Beauvardia Street\, Cannon Hill\, Q\, 4170\, Australia
END:VEVENT
BEGIN:VEVENT
DTSTART;TZID=Australia/Brisbane:20260904T093000
DTEND;TZID=Australia/Brisbane:20260904T100000
DTSTAMP:20260426T020618
CREATED:20241220T112128Z
LAST-MODIFIED:20250303T030753Z
UID:10000274-1788514200-1788516000@cannonhillparish.org.au
SUMMARY:Adoration of the Blessed Sacrament
DESCRIPTION:First Friday of the month following 9.00am Mass at St Oliver Plunkett Church.
URL:https://cannonhillparish.org.au/event/adoration-of-the-blessed-sacrament-2/2026-09-04/
LOCATION:St Oliver Plunkett Church\, 21 Beauvardia Street\, Cannon Hill\, Q\, 4170\, Australia
END:VEVENT
BEGIN:VEVENT
DTSTART;TZID=Australia/Brisbane:20261002T093000
DTEND;TZID=Australia/Brisbane:20261002T100000
DTSTAMP:20260426T020618
CREATED:20241220T112128Z
LAST-MODIFIED:20250303T030753Z
UID:10000275-1790933400-1790935200@cannonhillparish.org.au
SUMMARY:Adoration of the Blessed Sacrament
DESCRIPTION:First Friday of the month following 9.00am Mass at St Oliver Plunkett Church.
URL:https://cannonhillparish.org.au/event/adoration-of-the-blessed-sacrament-2/2026-10-02/
LOCATION:St Oliver Plunkett Church\, 21 Beauvardia Street\, Cannon Hill\, Q\, 4170\, Australia
END:VEVENT
BEGIN:VEVENT
DTSTART;TZID=Australia/Brisbane:20261106T093000
DTEND;TZID=Australia/Brisbane:20261106T100000
DTSTAMP:20260426T020618
CREATED:20241220T112128Z
LAST-MODIFIED:20250303T030753Z
UID:10000276-1793957400-1793959200@cannonhillparish.org.au
SUMMARY:Adoration of the Blessed Sacrament
DESCRIPTION:First Friday of the month following 9.00am Mass at St Oliver Plunkett Church.
URL:https://cannonhillparish.org.au/event/adoration-of-the-blessed-sacrament-2/2026-11-06/
LOCATION:St Oliver Plunkett Church\, 21 Beauvardia Street\, Cannon Hill\, Q\, 4170\, Australia
END:VEVENT
BEGIN:VEVENT
DTSTART;TZID=Australia/Brisbane:20261204T093000
DTEND;TZID=Australia/Brisbane:20261204T100000
DTSTAMP:20260426T020618
CREATED:20241220T112128Z
LAST-MODIFIED:20250303T030753Z
UID:10000277-1796376600-1796378400@cannonhillparish.org.au
SUMMARY:Adoration of the Blessed Sacrament
DESCRIPTION:First Friday of the month following 9.00am Mass at St Oliver Plunkett Church.
URL:https://cannonhillparish.org.au/event/adoration-of-the-blessed-sacrament-2/2026-12-04/
LOCATION:St Oliver Plunkett Church\, 21 Beauvardia Street\, Cannon Hill\, Q\, 4170\, Australia
END:VEVENT
BEGIN:VEVENT
DTSTART;TZID=Australia/Brisbane:20270101T093000
DTEND;TZID=Australia/Brisbane:20270101T100000
DTSTAMP:20260426T020618
CREATED:20241220T112128Z
LAST-MODIFIED:20250303T030753Z
UID:10000278-1798795800-1798797600@cannonhillparish.org.au
SUMMARY:Adoration of the Blessed Sacrament
DESCRIPTION:First Friday of the month following 9.00am Mass at St Oliver Plunkett Church.
URL:https://cannonhillparish.org.au/event/adoration-of-the-blessed-sacrament-2/2027-01-01/
LOCATION:St Oliver Plunkett Church\, 21 Beauvardia Street\, Cannon Hill\, Q\, 4170\, Australia
END:VEVENT
BEGIN:VEVENT
DTSTART;TZID=Australia/Brisbane:20270205T093000
DTEND;TZID=Australia/Brisbane:20270205T100000
DTSTAMP:20260426T020618
CREATED:20241220T112128Z
LAST-MODIFIED:20250303T030753Z
UID:10000279-1801819800-1801821600@cannonhillparish.org.au
SUMMARY:Adoration of the Blessed Sacrament
DESCRIPTION:First Friday of the month following 9.00am Mass at St Oliver Plunkett Church.
URL:https://cannonhillparish.org.au/event/adoration-of-the-blessed-sacrament-2/2027-02-05/
LOCATION:St Oliver Plunkett Church\, 21 Beauvardia Street\, Cannon Hill\, Q\, 4170\, Australia
END:VEVENT
BEGIN:VEVENT
DTSTART;TZID=Australia/Brisbane:20270305T093000
DTEND;TZID=Australia/Brisbane:20270305T100000
DTSTAMP:20260426T020618
CREATED:20241220T112128Z
LAST-MODIFIED:20250303T030753Z
UID:10000280-1804239000-1804240800@cannonhillparish.org.au
SUMMARY:Adoration of the Blessed Sacrament
DESCRIPTION:First Friday of the month following 9.00am Mass at St Oliver Plunkett Church.
URL:https://cannonhillparish.org.au/event/adoration-of-the-blessed-sacrament-2/2027-03-05/
LOCATION:St Oliver Plunkett Church\, 21 Beauvardia Street\, Cannon Hill\, Q\, 4170\, Australia
END:VEVENT
BEGIN:VEVENT
DTSTART;TZID=Australia/Brisbane:20270402T093000
DTEND;TZID=Australia/Brisbane:20270402T100000
DTSTAMP:20260426T020618
CREATED:20241220T112128Z
LAST-MODIFIED:20250303T030753Z
UID:10000281-1806658200-1806660000@cannonhillparish.org.au
SUMMARY:Adoration of the Blessed Sacrament
DESCRIPTION:First Friday of the month following 9.00am Mass at St Oliver Plunkett Church.
URL:https://cannonhillparish.org.au/event/adoration-of-the-blessed-sacrament-2/2027-04-02/
LOCATION:St Oliver Plunkett Church\, 21 Beauvardia Street\, Cannon Hill\, Q\, 4170\, Australia
END:VEVENT
BEGIN:VEVENT
DTSTART;TZID=Australia/Brisbane:20270507T093000
DTEND;TZID=Australia/Brisbane:20270507T100000
DTSTAMP:20260426T020618
CREATED:20241220T112128Z
LAST-MODIFIED:20250303T030753Z
UID:10000282-1809682200-1809684000@cannonhillparish.org.au
SUMMARY:Adoration of the Blessed Sacrament
DESCRIPTION:First Friday of the month following 9.00am Mass at St Oliver Plunkett Church.
URL:https://cannonhillparish.org.au/event/adoration-of-the-blessed-sacrament-2/2027-05-07/
LOCATION:St Oliver Plunkett Church\, 21 Beauvardia Street\, Cannon Hill\, Q\, 4170\, Australia
END:VEVENT
BEGIN:VEVENT
DTSTART;TZID=Australia/Brisbane:20270604T093000
DTEND;TZID=Australia/Brisbane:20270604T100000
DTSTAMP:20260426T020618
CREATED:20241220T112128Z
LAST-MODIFIED:20250303T030753Z
UID:10000283-1812101400-1812103200@cannonhillparish.org.au
SUMMARY:Adoration of the Blessed Sacrament
DESCRIPTION:First Friday of the month following 9.00am Mass at St Oliver Plunkett Church.
URL:https://cannonhillparish.org.au/event/adoration-of-the-blessed-sacrament-2/2027-06-04/
LOCATION:St Oliver Plunkett Church\, 21 Beauvardia Street\, Cannon Hill\, Q\, 4170\, Australia
END:VEVENT
BEGIN:VEVENT
DTSTART;TZID=Australia/Brisbane:20270702T093000
DTEND;TZID=Australia/Brisbane:20270702T100000
DTSTAMP:20260426T020618
CREATED:20241220T112128Z
LAST-MODIFIED:20250303T030753Z
UID:10000284-1814520600-1814522400@cannonhillparish.org.au
SUMMARY:Adoration of the Blessed Sacrament
DESCRIPTION:First Friday of the month following 9.00am Mass at St Oliver Plunkett Church.
URL:https://cannonhillparish.org.au/event/adoration-of-the-blessed-sacrament-2/2027-07-02/
LOCATION:St Oliver Plunkett Church\, 21 Beauvardia Street\, Cannon Hill\, Q\, 4170\, Australia
END:VEVENT
BEGIN:VEVENT
DTSTART;TZID=Australia/Brisbane:20270806T093000
DTEND;TZID=Australia/Brisbane:20270806T100000
DTSTAMP:20260426T020618
CREATED:20241220T112128Z
LAST-MODIFIED:20250303T030753Z
UID:10000285-1817544600-1817546400@cannonhillparish.org.au
SUMMARY:Adoration of the Blessed Sacrament
DESCRIPTION:First Friday of the month following 9.00am Mass at St Oliver Plunkett Church.
URL:https://cannonhillparish.org.au/event/adoration-of-the-blessed-sacrament-2/2027-08-06/
LOCATION:St Oliver Plunkett Church\, 21 Beauvardia Street\, Cannon Hill\, Q\, 4170\, Australia
END:VEVENT
BEGIN:VEVENT
DTSTART;TZID=Australia/Brisbane:20270903T093000
DTEND;TZID=Australia/Brisbane:20270903T100000
DTSTAMP:20260426T020618
CREATED:20241220T112128Z
LAST-MODIFIED:20250303T030753Z
UID:10000286-1819963800-1819965600@cannonhillparish.org.au
SUMMARY:Adoration of the Blessed Sacrament
DESCRIPTION:First Friday of the month following 9.00am Mass at St Oliver Plunkett Church.
URL:https://cannonhillparish.org.au/event/adoration-of-the-blessed-sacrament-2/2027-09-03/
LOCATION:St Oliver Plunkett Church\, 21 Beauvardia Street\, Cannon Hill\, Q\, 4170\, Australia
END:VEVENT
BEGIN:VEVENT
DTSTART;TZID=Australia/Brisbane:20271001T093000
DTEND;TZID=Australia/Brisbane:20271001T100000
DTSTAMP:20260426T020618
CREATED:20241220T112128Z
LAST-MODIFIED:20250303T030753Z
UID:10000287-1822383000-1822384800@cannonhillparish.org.au
SUMMARY:Adoration of the Blessed Sacrament
DESCRIPTION:First Friday of the month following 9.00am Mass at St Oliver Plunkett Church.
URL:https://cannonhillparish.org.au/event/adoration-of-the-blessed-sacrament-2/2027-10-01/
LOCATION:St Oliver Plunkett Church\, 21 Beauvardia Street\, Cannon Hill\, Q\, 4170\, Australia
END:VEVENT
BEGIN:VEVENT
DTSTART;TZID=Australia/Brisbane:20271105T093000
DTEND;TZID=Australia/Brisbane:20271105T100000
DTSTAMP:20260426T020618
CREATED:20241220T112128Z
LAST-MODIFIED:20250303T030753Z
UID:10000288-1825407000-1825408800@cannonhillparish.org.au
SUMMARY:Adoration of the Blessed Sacrament
DESCRIPTION:First Friday of the month following 9.00am Mass at St Oliver Plunkett Church.
URL:https://cannonhillparish.org.au/event/adoration-of-the-blessed-sacrament-2/2027-11-05/
LOCATION:St Oliver Plunkett Church\, 21 Beauvardia Street\, Cannon Hill\, Q\, 4170\, Australia
END:VEVENT
BEGIN:VEVENT
DTSTART;TZID=Australia/Brisbane:20271203T093000
DTEND;TZID=Australia/Brisbane:20271203T100000
DTSTAMP:20260426T020618
CREATED:20241220T112128Z
LAST-MODIFIED:20250303T030753Z
UID:10000289-1827826200-1827828000@cannonhillparish.org.au
SUMMARY:Adoration of the Blessed Sacrament
DESCRIPTION:First Friday of the month following 9.00am Mass at St Oliver Plunkett Church.
URL:https://cannonhillparish.org.au/event/adoration-of-the-blessed-sacrament-2/2027-12-03/
LOCATION:St Oliver Plunkett Church\, 21 Beauvardia Street\, Cannon Hill\, Q\, 4170\, Australia
END:VEVENT
BEGIN:VEVENT
DTSTART;TZID=Australia/Brisbane:20280107T093000
DTEND;TZID=Australia/Brisbane:20280107T100000
DTSTAMP:20260426T020618
CREATED:20241220T112128Z
LAST-MODIFIED:20250303T030753Z
UID:10000290-1830850200-1830852000@cannonhillparish.org.au
SUMMARY:Adoration of the Blessed Sacrament
DESCRIPTION:First Friday of the month following 9.00am Mass at St Oliver Plunkett Church.
URL:https://cannonhillparish.org.au/event/adoration-of-the-blessed-sacrament-2/2028-01-07/
LOCATION:St Oliver Plunkett Church\, 21 Beauvardia Street\, Cannon Hill\, Q\, 4170\, Australia
END:VEVENT
BEGIN:VEVENT
DTSTART;TZID=Australia/Brisbane:20280204T093000
DTEND;TZID=Australia/Brisbane:20280204T100000
DTSTAMP:20260426T020618
CREATED:20241220T112128Z
LAST-MODIFIED:20250303T030753Z
UID:10000291-1833269400-1833271200@cannonhillparish.org.au
SUMMARY:Adoration of the Blessed Sacrament
DESCRIPTION:First Friday of the month following 9.00am Mass at St Oliver Plunkett Church.
URL:https://cannonhillparish.org.au/event/adoration-of-the-blessed-sacrament-2/2028-02-04/
LOCATION:St Oliver Plunkett Church\, 21 Beauvardia Street\, Cannon Hill\, Q\, 4170\, Australia
END:VEVENT
BEGIN:VEVENT
DTSTART;TZID=Australia/Brisbane:20280303T093000
DTEND;TZID=Australia/Brisbane:20280303T100000
DTSTAMP:20260426T020618
CREATED:20241220T112128Z
LAST-MODIFIED:20250303T030753Z
UID:10000292-1835688600-1835690400@cannonhillparish.org.au
SUMMARY:Adoration of the Blessed Sacrament
DESCRIPTION:First Friday of the month following 9.00am Mass at St Oliver Plunkett Church.
URL:https://cannonhillparish.org.au/event/adoration-of-the-blessed-sacrament-2/2028-03-03/
LOCATION:St Oliver Plunkett Church\, 21 Beauvardia Street\, Cannon Hill\, Q\, 4170\, Australia
END:VEVENT
BEGIN:VEVENT
DTSTART;TZID=Australia/Brisbane:20280407T093000
DTEND;TZID=Australia/Brisbane:20280407T100000
DTSTAMP:20260426T020618
CREATED:20241220T112128Z
LAST-MODIFIED:20250303T030753Z
UID:10000293-1838712600-1838714400@cannonhillparish.org.au
SUMMARY:Adoration of the Blessed Sacrament
DESCRIPTION:First Friday of the month following 9.00am Mass at St Oliver Plunkett Church.
URL:https://cannonhillparish.org.au/event/adoration-of-the-blessed-sacrament-2/2028-04-07/
LOCATION:St Oliver Plunkett Church\, 21 Beauvardia Street\, Cannon Hill\, Q\, 4170\, Australia
END:VEVENT
BEGIN:VEVENT
DTSTART;TZID=Australia/Brisbane:20280505T093000
DTEND;TZID=Australia/Brisbane:20280505T100000
DTSTAMP:20260426T020618
CREATED:20241220T112128Z
LAST-MODIFIED:20250303T030753Z
UID:10000294-1841131800-1841133600@cannonhillparish.org.au
SUMMARY:Adoration of the Blessed Sacrament
DESCRIPTION:First Friday of the month following 9.00am Mass at St Oliver Plunkett Church.
URL:https://cannonhillparish.org.au/event/adoration-of-the-blessed-sacrament-2/2028-05-05/
LOCATION:St Oliver Plunkett Church\, 21 Beauvardia Street\, Cannon Hill\, Q\, 4170\, Australia
END:VEVENT
BEGIN:VEVENT
DTSTART;TZID=Australia/Brisbane:20280602T093000
DTEND;TZID=Australia/Brisbane:20280602T100000
DTSTAMP:20260426T020618
CREATED:20241220T112128Z
LAST-MODIFIED:20250303T030753Z
UID:10000295-1843551000-1843552800@cannonhillparish.org.au
SUMMARY:Adoration of the Blessed Sacrament
DESCRIPTION:First Friday of the month following 9.00am Mass at St Oliver Plunkett Church.
URL:https://cannonhillparish.org.au/event/adoration-of-the-blessed-sacrament-2/2028-06-02/
LOCATION:St Oliver Plunkett Church\, 21 Beauvardia Street\, Cannon Hill\, Q\, 4170\, Australia
END:VEVENT
BEGIN:VEVENT
DTSTART;TZID=Australia/Brisbane:20280707T093000
DTEND;TZID=Australia/Brisbane:20280707T100000
DTSTAMP:20260426T020618
CREATED:20241220T112128Z
LAST-MODIFIED:20250303T030753Z
UID:10000296-1846575000-1846576800@cannonhillparish.org.au
SUMMARY:Adoration of the Blessed Sacrament
DESCRIPTION:First Friday of the month following 9.00am Mass at St Oliver Plunkett Church.
URL:https://cannonhillparish.org.au/event/adoration-of-the-blessed-sacrament-2/2028-07-07/
LOCATION:St Oliver Plunkett Church\, 21 Beauvardia Street\, Cannon Hill\, Q\, 4170\, Australia
END:VEVENT
BEGIN:VEVENT
DTSTART;TZID=Australia/Brisbane:20280804T093000
DTEND;TZID=Australia/Brisbane:20280804T100000
DTSTAMP:20260426T020618
CREATED:20241220T112128Z
LAST-MODIFIED:20250303T030753Z
UID:10000297-1848994200-1848996000@cannonhillparish.org.au
SUMMARY:Adoration of the Blessed Sacrament
DESCRIPTION:First Friday of the month following 9.00am Mass at St Oliver Plunkett Church.
URL:https://cannonhillparish.org.au/event/adoration-of-the-blessed-sacrament-2/2028-08-04/
LOCATION:St Oliver Plunkett Church\, 21 Beauvardia Street\, Cannon Hill\, Q\, 4170\, Australia
END:VEVENT
BEGIN:VEVENT
DTSTART;TZID=Australia/Brisbane:20280901T093000
DTEND;TZID=Australia/Brisbane:20280901T100000
DTSTAMP:20260426T020618
CREATED:20241220T112128Z
LAST-MODIFIED:20250303T030753Z
UID:10000298-1851413400-1851415200@cannonhillparish.org.au
SUMMARY:Adoration of the Blessed Sacrament
DESCRIPTION:First Friday of the month following 9.00am Mass at St Oliver Plunkett Church.
URL:https://cannonhillparish.org.au/event/adoration-of-the-blessed-sacrament-2/2028-09-01/
LOCATION:St Oliver Plunkett Church\, 21 Beauvardia Street\, Cannon Hill\, Q\, 4170\, Australia
END:VEVENT
BEGIN:VEVENT
DTSTART;TZID=Australia/Brisbane:20281006T093000
DTEND;TZID=Australia/Brisbane:20281006T100000
DTSTAMP:20260426T020618
CREATED:20241220T112128Z
LAST-MODIFIED:20250303T030753Z
UID:10000299-1854437400-1854439200@cannonhillparish.org.au
SUMMARY:Adoration of the Blessed Sacrament
DESCRIPTION:First Friday of the month following 9.00am Mass at St Oliver Plunkett Church.
URL:https://cannonhillparish.org.au/event/adoration-of-the-blessed-sacrament-2/2028-10-06/
LOCATION:St Oliver Plunkett Church\, 21 Beauvardia Street\, Cannon Hill\, Q\, 4170\, Australia
END:VEVENT
END:VCALENDAR