BEGIN:VCALENDAR
VERSION:2.0
PRODID:-//St. Oliver Plunkett Church - ECPv6.15.20//NONSGML v1.0//EN
CALSCALE:GREGORIAN
METHOD:PUBLISH
X-WR-CALNAME:St. Oliver Plunkett Church
X-ORIGINAL-URL:https://cannonhillparish.org.au
X-WR-CALDESC:Events for St. Oliver Plunkett Church
REFRESH-INTERVAL;VALUE=DURATION:PT1H
X-Robots-Tag:noindex
X-PUBLISHED-TTL:PT1H
BEGIN:VTIMEZONE
TZID:Australia/Brisbane
BEGIN:STANDARD
TZOFFSETFROM:+1000
TZOFFSETTO:+1000
TZNAME:AEST
DTSTART:20280101T000000
END:STANDARD
END:VTIMEZONE
BEGIN:VEVENT
DTSTART;VALUE=DATE:20290603
DTEND;VALUE=DATE:20290604
DTSTAMP:20260424T202958
CREATED:20250529T110141Z
LAST-MODIFIED:20250529T114132Z
UID:10001461-1875139200-1875225599@cannonhillparish.org.au
SUMMARY:Memorial of St Charles Lwanga and Companions\, Martyrs
DESCRIPTION:
URL:https://cannonhillparish.org.au/event/memorial-of-st-charles-lwanga-and-companions-martyrs/2029-06-03/
CATEGORIES:Celebrations
END:VEVENT
BEGIN:VEVENT
DTSTART;VALUE=DATE:20290605
DTEND;VALUE=DATE:20290606
DTSTAMP:20260424T202958
CREATED:20250529T105824Z
LAST-MODIFIED:20250529T114112Z
UID:10001510-1875312000-1875398399@cannonhillparish.org.au
SUMMARY:Memorial of St Boniface\, Bishop and Martyr
DESCRIPTION:
URL:https://cannonhillparish.org.au/event/memorial-of-st-boniface-bishop-and-martyr/2029-06-05/
CATEGORIES:Celebrations
END:VEVENT
BEGIN:VEVENT
DTSTART;VALUE=DATE:20290609
DTEND;VALUE=DATE:20290610
DTSTAMP:20260424T202958
CREATED:20250529T110757Z
LAST-MODIFIED:20250529T114041Z
UID:10001466-1875657600-1875743999@cannonhillparish.org.au
SUMMARY:Memorial of the Blessed Virgin Mary\, Mother of the Church
DESCRIPTION:
URL:https://cannonhillparish.org.au/event/memorial-of-the-blessed-virgin-mary-mother-of-the-church/2029-06-09/
CATEGORIES:Celebrations
END:VEVENT
BEGIN:VEVENT
DTSTART;VALUE=DATE:20290611
DTEND;VALUE=DATE:20290612
DTSTAMP:20260424T202958
CREATED:20250529T110920Z
LAST-MODIFIED:20250529T112102Z
UID:10001471-1875830400-1875916799@cannonhillparish.org.au
SUMMARY:Memorial of St Barnabas\, Apostle
DESCRIPTION:
URL:https://cannonhillparish.org.au/event/memorial-of-st-barnabas-apostle/2029-06-11/
CATEGORIES:Celebrations
END:VEVENT
BEGIN:VEVENT
DTSTART;VALUE=DATE:20290613
DTEND;VALUE=DATE:20290614
DTSTAMP:20260424T202958
CREATED:20250529T111024Z
LAST-MODIFIED:20250529T114015Z
UID:10001476-1876003200-1876089599@cannonhillparish.org.au
SUMMARY:Memorial of St Anthony of Padua
DESCRIPTION:
URL:https://cannonhillparish.org.au/event/memorial-of-st-anthony-of-padua/2029-06-13/
CATEGORIES:Celebrations
END:VEVENT
BEGIN:VEVENT
DTSTART;VALUE=DATE:20290615
DTEND;VALUE=DATE:20290616
DTSTAMP:20260424T202958
CREATED:20250529T111120Z
LAST-MODIFIED:20250529T114006Z
UID:10001481-1876176000-1876262399@cannonhillparish.org.au
SUMMARY:Solemnity of the Most Holy Trinity
DESCRIPTION:
URL:https://cannonhillparish.org.au/event/solemnity-of-the-most-holy-trinity/2029-06-15/
CATEGORIES:Celebrations
END:VEVENT
BEGIN:VEVENT
DTSTART;VALUE=DATE:20290621
DTEND;VALUE=DATE:20290622
DTSTAMP:20260424T202958
CREATED:20250529T111231Z
LAST-MODIFIED:20250529T113944Z
UID:10001486-1876694400-1876780799@cannonhillparish.org.au
SUMMARY:Memorial of St Aloysius Gonzaga
DESCRIPTION:
URL:https://cannonhillparish.org.au/event/memorial-of-st-aloysius-gonzaga/2029-06-21/
CATEGORIES:Celebrations
END:VEVENT
BEGIN:VEVENT
DTSTART;TZID=Australia/Brisbane:20290622T080000
DTEND;TZID=Australia/Brisbane:20290622T170000
DTSTAMP:20260424T202958
CREATED:20250529T111334Z
LAST-MODIFIED:20250529T113935Z
UID:10001491-1876809600-1876842000@cannonhillparish.org.au
SUMMARY:Solemnity of the Most Holy Body and Blood of Christ
DESCRIPTION:
URL:https://cannonhillparish.org.au/event/solemnity-of-the-most-holy-body-and-blood-of-christ/2029-06-22/
CATEGORIES:Celebrations
END:VEVENT
BEGIN:VEVENT
DTSTART;VALUE=DATE:20290623
DTEND;VALUE=DATE:20290624
DTSTAMP:20260424T202958
CREATED:20250529T113810Z
LAST-MODIFIED:20250529T113927Z
UID:10001532-1876867200-1876953599@cannonhillparish.org.au
SUMMARY:Feast of St Oliver Plunkett
DESCRIPTION:
URL:https://cannonhillparish.org.au/event/feast-of-st-oliver-plunkett/2029-06-23/
CATEGORIES:Celebrations
END:VEVENT
BEGIN:VEVENT
DTSTART;VALUE=DATE:20290624
DTEND;VALUE=DATE:20290625
DTSTAMP:20260424T202958
CREATED:20250529T111431Z
LAST-MODIFIED:20250529T113921Z
UID:10001496-1876953600-1877039999@cannonhillparish.org.au
SUMMARY:Solemnity of the Nativity of St John the Baptist
DESCRIPTION:
URL:https://cannonhillparish.org.au/event/solemnity-of-the-nativity-of-st-john-the-baptist/2029-06-24/
CATEGORIES:Celebrations
END:VEVENT
BEGIN:VEVENT
DTSTART;VALUE=DATE:20290627
DTEND;VALUE=DATE:20290628
DTSTAMP:20260424T202958
CREATED:20250529T111519Z
LAST-MODIFIED:20250529T113914Z
UID:10001501-1877212800-1877299199@cannonhillparish.org.au
SUMMARY:Solemnity of the Most Sacred Heart of Jesus
DESCRIPTION:
URL:https://cannonhillparish.org.au/event/solemnity-of-the-most-sacred-heart-of-jesus/2029-06-27/
CATEGORIES:Celebrations
END:VEVENT
BEGIN:VEVENT
DTSTART;VALUE=DATE:20290629
DTEND;VALUE=DATE:20290630
DTSTAMP:20260424T202958
CREATED:20250529T111613Z
LAST-MODIFIED:20250529T113906Z
UID:10001506-1877385600-1877471999@cannonhillparish.org.au
SUMMARY:Solemnity Of Saints Peter and Paul\, Apostles
DESCRIPTION:
URL:https://cannonhillparish.org.au/event/solemnity-of-saints-peter-and-paul-apostles/2029-06-29/
CATEGORIES:Celebrations
END:VEVENT
END:VCALENDAR