BEGIN:VCALENDAR
VERSION:2.0
PRODID:-//St. Oliver Plunkett Church - ECPv6.15.18//NONSGML v1.0//EN
CALSCALE:GREGORIAN
METHOD:PUBLISH
X-WR-CALNAME:St. Oliver Plunkett Church
X-ORIGINAL-URL:https://cannonhillparish.org.au
X-WR-CALDESC:Events for St. Oliver Plunkett Church
REFRESH-INTERVAL;VALUE=DURATION:PT1H
X-Robots-Tag:noindex
X-PUBLISHED-TTL:PT1H
BEGIN:VTIMEZONE
TZID:Australia/Brisbane
BEGIN:STANDARD
TZOFFSETFROM:+1000
TZOFFSETTO:+1000
TZNAME:AEST
DTSTART:20240101T000000
END:STANDARD
END:VTIMEZONE
BEGIN:VEVENT
DTSTART;TZID=Australia/Brisbane:20250101T090000
DTEND;TZID=Australia/Brisbane:20250101T100000
DTSTAMP:20260422T232157
CREATED:20241220T105432Z
LAST-MODIFIED:20241220T110645Z
UID:10000246-1735722000-1735725600@cannonhillparish.org.au
SUMMARY:New Year's Day Mass - Solemnity of Mary\, Mother of God
DESCRIPTION:
URL:https://cannonhillparish.org.au/event/new-years-day-mass-solemnity-of-mary-mother-of-god/
LOCATION:St Oliver Plunkett Church\, 21 Beauvardia Street\, Cannon Hill\, Q\, 4170\, Australia
CATEGORIES:Celebrations
END:VEVENT
BEGIN:VEVENT
DTSTART;VALUE=DATE:20250102
DTEND;VALUE=DATE:20250103
DTSTAMP:20260422T232157
CREATED:20241222T051314Z
LAST-MODIFIED:20241222T051314Z
UID:10001220-1735776000-1735862399@cannonhillparish.org.au
SUMMARY:Memorial of Saint Basil the Great and Gregory Nazianzen
DESCRIPTION:
URL:https://cannonhillparish.org.au/event/memorial-of-saint-basil-the-great-and-gregory-nazianzen/
LOCATION:St Stephen’s Cathedral\, Brisbane\, Q\, 4000\, Australia
CATEGORIES:Celebrations
END:VEVENT
BEGIN:VEVENT
DTSTART;VALUE=DATE:20250103
DTEND;VALUE=DATE:20250104
DTSTAMP:20260422T232157
CREATED:20241222T051428Z
LAST-MODIFIED:20241222T051428Z
UID:10001221-1735862400-1735948799@cannonhillparish.org.au
SUMMARY:The Most Holy Name of Jesus
DESCRIPTION:
URL:https://cannonhillparish.org.au/event/the-most-holy-name-of-jesus/
LOCATION:St Stephen’s Cathedral\, Brisbane\, Q\, 4000\, Australia
CATEGORIES:Celebrations
END:VEVENT
BEGIN:VEVENT
DTSTART;VALUE=DATE:20250104
DTEND;VALUE=DATE:20250105
DTSTAMP:20260422T232157
CREATED:20241222T051521Z
LAST-MODIFIED:20241222T051602Z
UID:10001222-1735948800-1736035199@cannonhillparish.org.au
SUMMARY:Memorial of Saint Elizabeth Ann Seton
DESCRIPTION:
URL:https://cannonhillparish.org.au/event/memorial-of-saint-elizabeth-ann-seton/
LOCATION:St Stephen’s Cathedral\, Brisbane\, Q\, 4000\, Australia
CATEGORIES:Celebrations
END:VEVENT
BEGIN:VEVENT
DTSTART;VALUE=DATE:20250105
DTEND;VALUE=DATE:20250106
DTSTAMP:20260422T232157
CREATED:20241220T111632Z
LAST-MODIFIED:20241220T111632Z
UID:10000252-1736035200-1736121599@cannonhillparish.org.au
SUMMARY:The Epiphany of The Lord
DESCRIPTION:
URL:https://cannonhillparish.org.au/event/the-epiphany-of-the-lord/
LOCATION:St Stephen’s Cathedral\, Brisbane\, Q\, 4000\, Australia
CATEGORIES:Celebrations
END:VEVENT
BEGIN:VEVENT
DTSTART;VALUE=DATE:20250105
DTEND;VALUE=DATE:20250106
DTSTAMP:20260422T232157
CREATED:20250520T112033Z
LAST-MODIFIED:20250529T114627Z
UID:10001533-1736035200-1736121599@cannonhillparish.org.au
SUMMARY:The Epiphany of the Lord
DESCRIPTION:
URL:https://cannonhillparish.org.au/event/the-ascension-of-the-lord/2025-01-05/
CATEGORIES:Celebrations
END:VEVENT
BEGIN:VEVENT
DTSTART;VALUE=DATE:20250112
DTEND;VALUE=DATE:20250113
DTSTAMP:20260422T232157
CREATED:20241220T111434Z
LAST-MODIFIED:20241222T053228Z
UID:10000251-1736640000-1736726399@cannonhillparish.org.au
SUMMARY:The Baptism of Our Lord
DESCRIPTION:
URL:https://cannonhillparish.org.au/event/feast-of-the-baptism-of-our-lord/
LOCATION:St Stephen’s Cathedral\, Brisbane\, Q\, 4000\, Australia
CATEGORIES:Celebrations
END:VEVENT
BEGIN:VEVENT
DTSTART;VALUE=DATE:20250117
DTEND;VALUE=DATE:20250118
DTSTAMP:20260422T232157
CREATED:20241222T052436Z
LAST-MODIFIED:20241222T052436Z
UID:10001228-1737072000-1737158399@cannonhillparish.org.au
SUMMARY:Memorial of Saint Anthony\, Abbot
DESCRIPTION:
URL:https://cannonhillparish.org.au/event/memorial-of-saint-anthony-abbot/
LOCATION:St Stephen’s Cathedral\, Brisbane\, Q\, 4000\, Australia
CATEGORIES:Celebrations
END:VEVENT
BEGIN:VEVENT
DTSTART;VALUE=DATE:20250121
DTEND;VALUE=DATE:20250122
DTSTAMP:20260422T232157
CREATED:20241222T051739Z
LAST-MODIFIED:20241222T051739Z
UID:10001223-1737417600-1737503999@cannonhillparish.org.au
SUMMARY:Memorial of Saint Agnes\, Virgin and Martyr
DESCRIPTION:
URL:https://cannonhillparish.org.au/event/memorial-of-saint-agnes-virgin-and-martyr/
LOCATION:St Stephen’s Cathedral\, Brisbane\, Q\, 4000\, Australia
CATEGORIES:Celebrations
END:VEVENT
BEGIN:VEVENT
DTSTART;VALUE=DATE:20250122
DTEND;VALUE=DATE:20250123
DTSTAMP:20260422T232157
CREATED:20241222T051902Z
LAST-MODIFIED:20241222T051902Z
UID:10001224-1737504000-1737590399@cannonhillparish.org.au
SUMMARY:Day of Prayer for the Legal Protection of Unborn Children
DESCRIPTION:
URL:https://cannonhillparish.org.au/event/day-of-prayer-for-the-legal-protection-of-unborn-children/
LOCATION:St Stephen’s Cathedral\, Brisbane\, Q\, 4000\, Australia
CATEGORIES:Celebrations
END:VEVENT
BEGIN:VEVENT
DTSTART;VALUE=DATE:20250124
DTEND;VALUE=DATE:20250125
DTSTAMP:20260422T232157
CREATED:20241222T052518Z
LAST-MODIFIED:20241222T052547Z
UID:10001229-1737676800-1737763199@cannonhillparish.org.au
SUMMARY:Memorial of Saint Francis de Sales\, Bishop\, Doctor of the Church
DESCRIPTION:
URL:https://cannonhillparish.org.au/event/memorial-of-saint-francis-de-sales/
LOCATION:St Stephen’s Cathedral\, Brisbane\, Q\, 4000\, Australia
CATEGORIES:Celebrations
END:VEVENT
BEGIN:VEVENT
DTSTART;VALUE=DATE:20250125
DTEND;VALUE=DATE:20250126
DTSTAMP:20260422T232157
CREATED:20241222T052752Z
LAST-MODIFIED:20241222T052752Z
UID:10001230-1737763200-1737849599@cannonhillparish.org.au
SUMMARY:The Conversion of Saint Paul the Apostle
DESCRIPTION:
URL:https://cannonhillparish.org.au/event/the-conversion-of-saint-paul-the-apostle/
LOCATION:St Stephen’s Cathedral\, Brisbane\, Q\, 4000\, Australia
CATEGORIES:Celebrations
END:VEVENT
BEGIN:VEVENT
DTSTART;VALUE=DATE:20250128
DTEND;VALUE=DATE:20250129
DTSTAMP:20260422T232157
CREATED:20241222T052226Z
LAST-MODIFIED:20241222T052226Z
UID:10001226-1738022400-1738108799@cannonhillparish.org.au
SUMMARY:Memorial of Saint Thomas Aquinas\, Priest\, Doctor of the Church
DESCRIPTION:
URL:https://cannonhillparish.org.au/event/memorial-of-saint-thomas-aquinas-priest-doctor-of-the-church/
LOCATION:St Stephen’s Cathedral\, Brisbane\, Q\, 4000\, Australia
CATEGORIES:Celebrations
END:VEVENT
BEGIN:VEVENT
DTSTART;VALUE=DATE:20250131
DTEND;VALUE=DATE:20250201
DTSTAMP:20260422T232157
CREATED:20241222T052400Z
LAST-MODIFIED:20241222T052400Z
UID:10001227-1738281600-1738367999@cannonhillparish.org.au
SUMMARY:Memorial of Saint John Bosco\, Priest
DESCRIPTION:
URL:https://cannonhillparish.org.au/event/memorial-of-saint-john-bosco-priest/
LOCATION:St Stephen’s Cathedral\, Brisbane\, Q\, 4000\, Australia
CATEGORIES:Celebrations
END:VEVENT
END:VCALENDAR