BEGIN:VCALENDAR
VERSION:2.0
PRODID:-//St. Oliver Plunkett Church - ECPv6.15.18//NONSGML v1.0//EN
CALSCALE:GREGORIAN
METHOD:PUBLISH
X-WR-CALNAME:St. Oliver Plunkett Church
X-ORIGINAL-URL:https://cannonhillparish.org.au
X-WR-CALDESC:Events for St. Oliver Plunkett Church
REFRESH-INTERVAL;VALUE=DURATION:PT1H
X-Robots-Tag:noindex
X-PUBLISHED-TTL:PT1H
BEGIN:VTIMEZONE
TZID:Australia/Brisbane
BEGIN:STANDARD
TZOFFSETFROM:+1000
TZOFFSETTO:+1000
TZNAME:AEST
DTSTART:20230101T000000
END:STANDARD
END:VTIMEZONE
BEGIN:VEVENT
DTSTART;TZID=Australia/Brisbane:20241224T173000
DTEND;TZID=Australia/Brisbane:20241224T180000
DTSTAMP:20260423T011153
CREATED:20241222T042922Z
LAST-MODIFIED:20241222T042922Z
UID:10001204-1735061400-1735063200@cannonhillparish.org.au
SUMMARY:Christmas Carols
DESCRIPTION:
URL:https://cannonhillparish.org.au/event/christmas-carols/
LOCATION:St Oliver Plunkett Church\, 21 Beauvardia Street\, Cannon Hill\, Q\, 4170\, Australia
CATEGORIES:Celebrations
END:VEVENT
BEGIN:VEVENT
DTSTART;TZID=Australia/Brisbane:20241224T180000
DTEND;TZID=Australia/Brisbane:20241224T190000
DTSTAMP:20260423T011153
CREATED:20241220T104010Z
LAST-MODIFIED:20241220T104010Z
UID:10000239-1735063200-1735066800@cannonhillparish.org.au
SUMMARY:Christmas Eve Vigil
DESCRIPTION:This is a child friendly Mass with Carols commencing at 5.30pm. Mass at 6pm. Every child will receive a small Christmas gift.
URL:https://cannonhillparish.org.au/event/christmas-eve-vigil/
LOCATION:St Oliver Plunkett Church\, 21 Beauvardia Street\, Cannon Hill\, Q\, 4170\, Australia
CATEGORIES:Celebrations
END:VEVENT
BEGIN:VEVENT
DTSTART;TZID=Australia/Brisbane:20241225T073000
DTEND;TZID=Australia/Brisbane:20241225T083000
DTSTAMP:20260423T011153
CREATED:20241220T111120Z
LAST-MODIFIED:20241220T111120Z
UID:10000250-1735111800-1735115400@cannonhillparish.org.au
SUMMARY:Christmas Day Mass - Holy Family Church
DESCRIPTION:
URL:https://cannonhillparish.org.au/event/christmas-day-mass-holy-family-church/
LOCATION:St Oliver Plunkett Church\, 21 Beauvardia Street\, Cannon Hill\, Q\, 4170\, Australia
CATEGORIES:Celebrations
END:VEVENT
BEGIN:VEVENT
DTSTART;TZID=Australia/Brisbane:20241225T090000
DTEND;TZID=Australia/Brisbane:20241225T100000
DTSTAMP:20260423T011153
CREATED:20241220T104543Z
LAST-MODIFIED:20241220T110911Z
UID:10000243-1735117200-1735120800@cannonhillparish.org.au
SUMMARY:Christmas Day Mass - St Oliver Plunkett Church
DESCRIPTION:
URL:https://cannonhillparish.org.au/event/christmas-day-mass-st-oliver-plunkett-church/
LOCATION:St Oliver Plunkett Church\, 21 Beauvardia Street\, Cannon Hill\, Q\, 4170\, Australia
CATEGORIES:Celebrations
END:VEVENT
BEGIN:VEVENT
DTSTART;TZID=Australia/Brisbane:20241229T080000
DTEND;TZID=Australia/Brisbane:20241229T090000
DTSTAMP:20260423T011153
CREATED:20241220T105221Z
LAST-MODIFIED:20241220T110808Z
UID:10000244-1735459200-1735462800@cannonhillparish.org.au
SUMMARY:Feast of The Holy Family
DESCRIPTION:
URL:https://cannonhillparish.org.au/event/feast-of-the-holy-family/
LOCATION:Holy Family Church\, 41 Belmont Road\, Tingalpa\, Q\, 4170\, Australia
CATEGORIES:Celebrations
END:VEVENT
BEGIN:VEVENT
DTSTART;TZID=Australia/Brisbane:20241229T093000
DTEND;TZID=Australia/Brisbane:20241229T103000
DTSTAMP:20260423T011153
CREATED:20241220T105312Z
LAST-MODIFIED:20241220T110839Z
UID:10000245-1735464600-1735468200@cannonhillparish.org.au
SUMMARY:Feast of the Holy Family
DESCRIPTION:
URL:https://cannonhillparish.org.au/event/feast-of-the-holy-family-2/
LOCATION:St Oliver Plunkett Church\, 21 Beauvardia Street\, Cannon Hill\, Q\, 4170\, Australia
CATEGORIES:Celebrations
END:VEVENT
END:VCALENDAR