BEGIN:VCALENDAR
VERSION:2.0
PRODID:-//St. Oliver Plunkett Church - ECPv6.15.20//NONSGML v1.0//EN
CALSCALE:GREGORIAN
METHOD:PUBLISH
X-WR-CALNAME:St. Oliver Plunkett Church
X-ORIGINAL-URL:https://cannonhillparish.org.au
X-WR-CALDESC:Events for St. Oliver Plunkett Church
REFRESH-INTERVAL;VALUE=DURATION:PT1H
X-Robots-Tag:noindex
X-PUBLISHED-TTL:PT1H
BEGIN:VTIMEZONE
TZID:Australia/Brisbane
BEGIN:STANDARD
TZOFFSETFROM:+1000
TZOFFSETTO:+1000
TZNAME:AEST
DTSTART:20230101T000000
END:STANDARD
END:VTIMEZONE
BEGIN:VEVENT
DTSTART;TZID=Australia/Brisbane:20240101T090000
DTEND;TZID=Australia/Brisbane:20240101T093000
DTSTAMP:20260423T175359
CREATED:20240101T063200Z
LAST-MODIFIED:20240101T063200Z
UID:10000169-1704099600-1704101400@cannonhillparish.org.au
SUMMARY:Mass for the Solemnity of Mary\, the Holy Mother of God
DESCRIPTION:
URL:https://cannonhillparish.org.au/event/mass-for-the-solemnity-of-mary-the-holy-mother-of-god/
LOCATION:St Oliver Plunkett Church\, 21 Beauvardia Street\, Cannon Hill\, Q\, 4170\, Australia
CATEGORIES:Celebrations
END:VEVENT
BEGIN:VEVENT
DTSTART;TZID=Australia/Brisbane:20240103T093000
DTEND;TZID=Australia/Brisbane:20240103T100000
DTSTAMP:20260423T175359
CREATED:20240101T064926Z
LAST-MODIFIED:20240101T064926Z
UID:10000170-1704274200-1704276000@cannonhillparish.org.au
SUMMARY:Wednesday Hospitality
DESCRIPTION:
URL:https://cannonhillparish.org.au/event/wednesday-hospitality/
LOCATION:St Stephen’s Cathedral\, Brisbane\, Q\, 4000\, Australia
CATEGORIES:Celebrations
END:VEVENT
BEGIN:VEVENT
DTSTART;VALUE=DATE:20240105
DTEND;VALUE=DATE:20240106
DTSTAMP:20260423T175359
CREATED:20231231T052224Z
LAST-MODIFIED:20231231T052224Z
UID:10000168-1704412800-1704499199@cannonhillparish.org.au
SUMMARY:No First Friday Adoration Today
DESCRIPTION:
URL:https://cannonhillparish.org.au/event/no-first-friday-adoration-today/
CATEGORIES:Celebrations
END:VEVENT
BEGIN:VEVENT
DTSTART;TZID=Australia/Brisbane:20240110T093000
DTEND;TZID=Australia/Brisbane:20240110T100000
DTSTAMP:20260423T175359
CREATED:20240108T022915Z
LAST-MODIFIED:20240108T022915Z
UID:10000172-1704879000-1704880800@cannonhillparish.org.au
SUMMARY:Wednesday Hospitality and Farewell to Mary
DESCRIPTION:
URL:https://cannonhillparish.org.au/event/wednesday-hospitality-and-farewell-to-mary/
LOCATION:St Stephen’s Cathedral\, Brisbane\, Q\, 4000\, Australia
CATEGORIES:Celebrations
END:VEVENT
BEGIN:VEVENT
DTSTART;TZID=Australia/Brisbane:20240111T183000
DTEND;TZID=Australia/Brisbane:20240111T203000
DTSTAMP:20260423T175359
CREATED:20231222T002108Z
LAST-MODIFIED:20231222T002108Z
UID:10000161-1704997800-1705005000@cannonhillparish.org.au
SUMMARY:Connect Dinner
DESCRIPTION:
URL:https://cannonhillparish.org.au/event/connect-dinner/
CATEGORIES:Celebrations
END:VEVENT
BEGIN:VEVENT
DTSTART;TZID=Australia/Brisbane:20240125T183000
DTEND;TZID=Australia/Brisbane:20240125T203000
DTSTAMP:20260423T175359
CREATED:20231222T002135Z
LAST-MODIFIED:20231222T002135Z
UID:10000162-1706207400-1706214600@cannonhillparish.org.au
SUMMARY:Connect Dinner
DESCRIPTION:
URL:https://cannonhillparish.org.au/event/connect-dinner-2/
CATEGORIES:Celebrations
END:VEVENT
BEGIN:VEVENT
DTSTART;TZID=Australia/Brisbane:20240126T170000
DTEND;TZID=Australia/Brisbane:20240126T193000
DTSTAMP:20260423T175359
CREATED:20240101T120737Z
LAST-MODIFIED:20240101T120737Z
UID:10000171-1706288400-1706297400@cannonhillparish.org.au
SUMMARY:Parish Welcoming Mass for Fr Vasanthan and Norma\, Farewell to Fr Basti & Mary
DESCRIPTION:
URL:https://cannonhillparish.org.au/event/parish-welcoming-mass-and-farewell-to-fr-basti-mary/
LOCATION:St Stephen’s Cathedral\, Brisbane\, Q\, 4000\, Australia
CATEGORIES:Celebrations
END:VEVENT
END:VCALENDAR