BEGIN:VCALENDAR
VERSION:2.0
PRODID:-//St. Oliver Plunkett Church - ECPv6.15.20//NONSGML v1.0//EN
CALSCALE:GREGORIAN
METHOD:PUBLISH
X-WR-CALNAME:St. Oliver Plunkett Church
X-ORIGINAL-URL:https://cannonhillparish.org.au
X-WR-CALDESC:Events for St. Oliver Plunkett Church
REFRESH-INTERVAL;VALUE=DURATION:PT1H
X-Robots-Tag:noindex
X-PUBLISHED-TTL:PT1H
BEGIN:VTIMEZONE
TZID:Australia/Brisbane
BEGIN:STANDARD
TZOFFSETFROM:+1000
TZOFFSETTO:+1000
TZNAME:AEST
DTSTART:20250101T000000
END:STANDARD
END:VTIMEZONE
BEGIN:VEVENT
DTSTART;TZID=Australia/Brisbane:20260425T090000
DTEND;TZID=Australia/Brisbane:20260425T220000
DTSTAMP:20260425T025546
CREATED:20260424T104401Z
LAST-MODIFIED:20260424T104401Z
UID:10002562-1777107600-1777154400@cannonhillparish.org.au
SUMMARY:ANZAC Day Mass
DESCRIPTION:9:00 am Mass at St Oliver Plunkett Church\, Cannon Hill \n 
URL:https://cannonhillparish.org.au/event/anzac-day-mass/
LOCATION:St Oliver Plunkett Church\, 21 Beauvardia Street\, Cannon Hill\, Q\, 4170\, Australia
END:VEVENT
END:VCALENDAR